BEGIN:VCALENDAR
VERSION:2.0
PRODID:-//Grand Forks EDC | Grand Forks, ND - ECPv6.15.20//NONSGML v1.0//EN
CALSCALE:GREGORIAN
METHOD:PUBLISH
X-WR-CALNAME:Grand Forks EDC | Grand Forks, ND
X-ORIGINAL-URL:https://grandforks.org
X-WR-CALDESC:Events for Grand Forks EDC | Grand Forks, ND
REFRESH-INTERVAL;VALUE=DURATION:PT1H
X-Robots-Tag:noindex
X-PUBLISHED-TTL:PT1H
BEGIN:VTIMEZONE
TZID:America/Chicago
BEGIN:DAYLIGHT
TZOFFSETFROM:-0600
TZOFFSETTO:-0500
TZNAME:CDT
DTSTART:20210314T080000
END:DAYLIGHT
BEGIN:STANDARD
TZOFFSETFROM:-0500
TZOFFSETTO:-0600
TZNAME:CST
DTSTART:20211107T070000
END:STANDARD
BEGIN:DAYLIGHT
TZOFFSETFROM:-0600
TZOFFSETTO:-0500
TZNAME:CDT
DTSTART:20220313T080000
END:DAYLIGHT
BEGIN:STANDARD
TZOFFSETFROM:-0500
TZOFFSETTO:-0600
TZNAME:CST
DTSTART:20221106T070000
END:STANDARD
BEGIN:DAYLIGHT
TZOFFSETFROM:-0600
TZOFFSETTO:-0500
TZNAME:CDT
DTSTART:20230312T080000
END:DAYLIGHT
BEGIN:STANDARD
TZOFFSETFROM:-0500
TZOFFSETTO:-0600
TZNAME:CST
DTSTART:20231105T070000
END:STANDARD
BEGIN:DAYLIGHT
TZOFFSETFROM:-0600
TZOFFSETTO:-0500
TZNAME:CDT
DTSTART:20240310T080000
END:DAYLIGHT
BEGIN:STANDARD
TZOFFSETFROM:-0500
TZOFFSETTO:-0600
TZNAME:CST
DTSTART:20241103T070000
END:STANDARD
BEGIN:DAYLIGHT
TZOFFSETFROM:-0600
TZOFFSETTO:-0500
TZNAME:CDT
DTSTART:20250309T080000
END:DAYLIGHT
BEGIN:STANDARD
TZOFFSETFROM:-0500
TZOFFSETTO:-0600
TZNAME:CST
DTSTART:20251102T070000
END:STANDARD
END:VTIMEZONE
BEGIN:VEVENT
DTSTART;VALUE=DATE:20240101
DTEND;VALUE=DATE:20240302
DTSTAMP:20260423T164404
CREATED:20231101T214103Z
LAST-MODIFIED:20231101T214103Z
UID:6993-1704067200-1709337599@grandforks.org
SUMMARY:Intern GF Applications for Summer '24 Open
DESCRIPTION:InternGF offers up to $3\,500 to offset an intern’s salary. Employers can apply for up to two internships per year. Eligible applicants must be an early-to-mid-stage startup or a member organization of the EDC that can offer an internship not routinely found in the greater Grand Forks region. \nSummer Internships | May 1 – August 31 \n\nApplications Open: January 1 – March 1\nPriority Deadline: February 1
URL:https://grandforks.org/event/intern-gf-applications-for-summer-24-open/
LOCATION:Grand Forks Region Economic Development Corporation Office\, 120 N 4th St\, Grand Forks\, ND\, 58203\, United States
CATEGORIES:Funding Programs
ATTACH;FMTTYPE=image/jpeg:https://grandforks.org/wp-content/uploads/2023/05/interngf-students-smiling-school-brick-wall.jpg
END:VEVENT
BEGIN:VEVENT
DTSTART;VALUE=DATE:20240101
DTEND;VALUE=DATE:20240102
DTSTAMP:20260423T164404
CREATED:20231211T181719Z
LAST-MODIFIED:20231211T181719Z
UID:7180-1704067200-1704153599@grandforks.org
SUMMARY:New Year's 2024: EDC Office Closed
DESCRIPTION:The Grand Forks Region Economic Development Corporation will be closed on specific holidays throughout the year.
URL:https://grandforks.org/event/new-years-2024-edc-office-closed/
LOCATION:Grand Forks Region Economic Development Corporation Office\, 120 N 4th St\, Grand Forks\, ND\, 58203\, United States
CATEGORIES:Holidays & Office Changes
END:VEVENT
BEGIN:VEVENT
DTSTART;VALUE=DATE:20231225
DTEND;VALUE=DATE:20231226
DTSTAMP:20260423T164404
CREATED:20230228T170504Z
LAST-MODIFIED:20231212T163927Z
UID:6158-1703462400-1703548799@grandforks.org
SUMMARY:Christmas: EDC Office Closed
DESCRIPTION:The Grand Forks Region Economic Development Corporation will be closed on specific holidays throughout the year.
URL:https://grandforks.org/event/christmas-edc-office-closed/
LOCATION:Grand Forks Region Economic Development Corporation Office\, 120 N 4th St\, Grand Forks\, ND\, 58203\, United States
CATEGORIES:Holidays & Office Changes
ATTACH;FMTTYPE=image/jpeg:https://grandforks.org/wp-content/uploads/2023/02/edc-outside-sign-summer-calendar-event.jpg
END:VEVENT
BEGIN:VEVENT
DTSTART;TZID=America/Chicago:20231207T073000
DTEND;TZID=America/Chicago:20231207T093000
DTSTAMP:20260423T164404
CREATED:20230228T165500Z
LAST-MODIFIED:20230301T224011Z
UID:6139-1701934200-1701941400@grandforks.org
SUMMARY:December Board of Directors
DESCRIPTION:The Grand Forks Region Economic Development Corporation’s board of directors meets every month on the first Thursday of the month.
URL:https://grandforks.org/event/december-board-of-directors/
LOCATION:The HIVE GF\, 375 2nd Ave N\, Grand Forks\, ND\, 58203\, United States
CATEGORIES:Board of Directors Meeting
ATTACH;FMTTYPE=image/jpeg:https://grandforks.org/wp-content/uploads/2023/02/grand-forks-herald-building-4th-street-entrance.jpg
END:VEVENT
BEGIN:VEVENT
DTSTART;VALUE=DATE:20231123
DTEND;VALUE=DATE:20231124
DTSTAMP:20260423T164404
CREATED:20230228T170422Z
LAST-MODIFIED:20230309T143907Z
UID:6156-1700697600-1700783999@grandforks.org
SUMMARY:Thanksgiving: EDC Office Closed
DESCRIPTION:The Grand Forks Region Economic Development Corporation will be closed on specific holidays throughout the year.
URL:https://grandforks.org/event/thanksgiving-edc-office-closed/
LOCATION:Grand Forks Region Economic Development Corporation Office\, 120 N 4th St\, Grand Forks\, ND\, 58203\, United States
CATEGORIES:Holidays & Office Changes
END:VEVENT
BEGIN:VEVENT
DTSTART;TZID=America/Chicago:20231102T073000
DTEND;TZID=America/Chicago:20231102T093000
DTSTAMP:20260423T164404
CREATED:20230228T165417Z
LAST-MODIFIED:20230301T224027Z
UID:6137-1698910200-1698917400@grandforks.org
SUMMARY:November Board of Directors
DESCRIPTION:The Grand Forks Region Economic Development Corporation’s board of directors meets every month on the first Thursday of the month.
URL:https://grandforks.org/event/november-board-of-directors/
LOCATION:The HIVE GF\, 375 2nd Ave N\, Grand Forks\, ND\, 58203\, United States
CATEGORIES:Board of Directors Meeting
ATTACH;FMTTYPE=image/jpeg:https://grandforks.org/wp-content/uploads/2023/02/grand-forks-herald-building-4th-street-entrance.jpg
END:VEVENT
BEGIN:VEVENT
DTSTART;TZID=America/Chicago:20231012T073000
DTEND;TZID=America/Chicago:20231012T090000
DTSTAMP:20260423T164404
CREATED:20230228T165707Z
LAST-MODIFIED:20230301T230035Z
UID:6142-1697095800-1697101200@grandforks.org
SUMMARY:October Advisory Board Meeting
DESCRIPTION:The Grand Forks Region Economic Development Corporation’s Advisory Board meets three times a year on the second Thursday of the meeting month.
URL:https://grandforks.org/event/october-advisory-board-meeting/
LOCATION:The HIVE GF\, 375 2nd Ave N\, Grand Forks\, ND\, 58203\, United States
CATEGORIES:Advisory Board Meeting
ATTACH;FMTTYPE=image/jpeg:https://grandforks.org/wp-content/uploads/2023/02/edc-outside-sign-summer-calendar-event.jpg
END:VEVENT
BEGIN:VEVENT
DTSTART;TZID=America/Chicago:20231005T073000
DTEND;TZID=America/Chicago:20231005T093000
DTSTAMP:20260423T164404
CREATED:20230228T165324Z
LAST-MODIFIED:20230301T224035Z
UID:6135-1696491000-1696498200@grandforks.org
SUMMARY:October Board of Directors
DESCRIPTION:The Grand Forks Region Economic Development Corporation’s board of directors meets every month on the first Thursday of the month.
URL:https://grandforks.org/event/october-board-of-directors/
LOCATION:The HIVE GF\, 375 2nd Ave N\, Grand Forks\, ND\, 58203\, United States
CATEGORIES:Board of Directors Meeting
ATTACH;FMTTYPE=image/jpeg:https://grandforks.org/wp-content/uploads/2023/02/grand-forks-herald-building-4th-street-entrance.jpg
END:VEVENT
BEGIN:VEVENT
DTSTART;TZID=America/Chicago:20231002T140000
DTEND;TZID=America/Chicago:20231002T150000
DTSTAMP:20260423T164404
CREATED:20230915T195021Z
LAST-MODIFIED:20230915T195021Z
UID:6863-1696255200-1696258800@grandforks.org
SUMMARY:Career Impact Academy Groundbreaking Ceremony
DESCRIPTION:All are invited to attend the Career Impact Academy groundbreaking ceremony! Hear from key leaders\, celebrate this important milestone\, and enjoy complimentary refreshments. RSVP not required.
URL:https://grandforks.org/event/career-impact-academy-groundbreaking-ceremony/
LOCATION:1210 North 43rd St\, Grand Forks\, ND 58203\, 1210 North 43rd St\, Grand Forks\, ND\, 58203\, United States
ATTACH;FMTTYPE=image/jpeg:https://grandforks.org/wp-content/uploads/2023/09/edc-mkt-23-career-impact-academy-groundbreaking-rgb.jpg
END:VEVENT
BEGIN:VEVENT
DTSTART;TZID=America/Chicago:20230907T073000
DTEND;TZID=America/Chicago:20230907T093000
DTSTAMP:20260423T164404
CREATED:20230228T165242Z
LAST-MODIFIED:20230301T224046Z
UID:6133-1694071800-1694079000@grandforks.org
SUMMARY:September Board of Directors
DESCRIPTION:The Grand Forks Region Economic Development Corporation’s board of directors meets every month on the first Thursday of the month.
URL:https://grandforks.org/event/september-board-of-directors/
LOCATION:The HIVE GF\, 375 2nd Ave N\, Grand Forks\, ND\, 58203\, United States
CATEGORIES:Board of Directors Meeting
ATTACH;FMTTYPE=image/jpeg:https://grandforks.org/wp-content/uploads/2023/02/grand-forks-herald-building-4th-street-entrance.jpg
END:VEVENT
BEGIN:VEVENT
DTSTART;VALUE=DATE:20230904
DTEND;VALUE=DATE:20230905
DTSTAMP:20260423T164404
CREATED:20230228T170309Z
LAST-MODIFIED:20230309T143914Z
UID:6154-1693785600-1693871999@grandforks.org
SUMMARY:Labor Day: EDC Office Closed
DESCRIPTION:The Grand Forks Region Economic Development Corporation will be closed on specific holidays throughout the year.
URL:https://grandforks.org/event/labor-day-edc-office-closed/
LOCATION:Grand Forks Region Economic Development Corporation Office\, 120 N 4th St\, Grand Forks\, ND\, 58203\, United States
CATEGORIES:Holidays & Office Changes
END:VEVENT
BEGIN:VEVENT
DTSTART;TZID=America/Chicago:20230822T083000
DTEND;TZID=America/Chicago:20230822T100000
DTSTAMP:20260423T164404
CREATED:20230801T163658Z
LAST-MODIFIED:20230807T220834Z
UID:6752-1692693000-1692698400@grandforks.org
SUMMARY:Lender Learning: Unleashing Economic Development Financing Opportunities
DESCRIPTION:? Tuesday\, August 22\, 2023 \n⏰ 8:30 – 9 am: Networking \n✅ 9 – 10 am: Overview of local and state economic development financing programs \n☕️ Coffee & Pastries Available \n? The HIVE\, 375 2nd Ave N\, Grand Forks\, ND 58203 \n? RSVP by August 15\, 2023 \n  \nThe session will include time to network\, as well as a few presentations about new and established programs available\, including: \n\nEDA Revolving Loan Fund\nBank of North Dakota ADD\nAngel Match Program\nNorth Dakota Growth Fund\nFlex PACE (childcare\, quality of life\, rural investments)\nPACE (Primary Sector Businesses)\n\nRepresentatives from the following organizations will present about the programs: \n\nNorth Dakota Development Fund | Hannah Lange\nBank of North Dakota | Tyson Zeltinger\n50 South Capital (North Dakota Growth Fund) | TBD\nGrand Forks Region EDC | Kevin Hatcher
URL:https://grandforks.org/event/lender-learning-financing-opportunities/
LOCATION:The HIVE GF\, 375 2nd Ave N\, Grand Forks\, ND\, 58203\, United States
CATEGORIES:Funding Programs
ATTACH;FMTTYPE=image/jpeg:https://grandforks.org/wp-content/uploads/2023/08/edc-mkt-23-lender-learning-invite-graphics-rgb-1920x1080-1.jpg
END:VEVENT
BEGIN:VEVENT
DTSTART;TZID=America/Chicago:20230803T073000
DTEND;TZID=America/Chicago:20230803T093000
DTSTAMP:20260423T164404
CREATED:20230228T165143Z
LAST-MODIFIED:20230301T224057Z
UID:6131-1691047800-1691055000@grandforks.org
SUMMARY:August Board of Directors
DESCRIPTION:The Grand Forks Region Economic Development Corporation’s board of directors meets every month on the first Thursday of the month.
URL:https://grandforks.org/event/august-board-of-directors/
LOCATION:The HIVE GF\, 375 2nd Ave N\, Grand Forks\, ND\, 58203\, United States
CATEGORIES:Board of Directors Meeting
ATTACH;FMTTYPE=image/jpeg:https://grandforks.org/wp-content/uploads/2023/02/grand-forks-herald-building-4th-street-entrance.jpg
END:VEVENT
BEGIN:VEVENT
DTSTART;TZID=America/Chicago:20230713T073000
DTEND;TZID=America/Chicago:20230713T090000
DTSTAMP:20260423T164404
CREATED:20230228T165007Z
LAST-MODIFIED:20230301T230047Z
UID:6129-1689233400-1689238800@grandforks.org
SUMMARY:July Advisory Board Meeting
DESCRIPTION:The Grand Forks Region Economic Development Corporation’s Advisory Board meets three times a year on the second Thursday of the meeting month.
URL:https://grandforks.org/event/july-advisory-board-meeting/
LOCATION:The HIVE GF\, 375 2nd Ave N\, Grand Forks\, ND\, 58203\, United States
CATEGORIES:Advisory Board Meeting
ATTACH;FMTTYPE=image/jpeg:https://grandforks.org/wp-content/uploads/2023/02/edc-outside-sign-summer-calendar-event.jpg
END:VEVENT
BEGIN:VEVENT
DTSTART;VALUE=DATE:20230704
DTEND;VALUE=DATE:20230705
DTSTAMP:20260423T164404
CREATED:20230228T170130Z
LAST-MODIFIED:20230309T143923Z
UID:6150-1688428800-1688515199@grandforks.org
SUMMARY:Independence Day: EDC Office Closed
DESCRIPTION:The Grand Forks Region Economic Development Corporation will be closed on specific holidays throughout the year.
URL:https://grandforks.org/event/independence-day-edc-office-closed/
LOCATION:Grand Forks Region Economic Development Corporation Office\, 120 N 4th St\, Grand Forks\, ND\, 58203\, United States
CATEGORIES:Holidays & Office Changes
END:VEVENT
BEGIN:VEVENT
DTSTART;VALUE=DATE:20230701
DTEND;VALUE=DATE:20231101
DTSTAMP:20260423T164404
CREATED:20230531T144529Z
LAST-MODIFIED:20231215T134630Z
UID:6581-1688169600-1698796799@grandforks.org
SUMMARY:InternGF Applications for Spring '24 Open
DESCRIPTION:InternGF offers up to $3\,500 to offset an intern’s salary. Employers can apply for up to two internships per year. \nSpring 2024 Internships | Jan 1 – May 1 \n\nApplications Open: July 1 – October 31\nPriority Deadline: September 1
URL:https://grandforks.org/event/interngf-applications-for-spring-24-open/
LOCATION:Grand Forks Region Economic Development Corporation Office\, 120 N 4th St\, Grand Forks\, ND\, 58203\, United States
CATEGORIES:Funding Programs
ATTACH;FMTTYPE=image/jpeg:https://grandforks.org/wp-content/uploads/2023/05/interngf-students-smiling-school-brick-wall.jpg
END:VEVENT
BEGIN:VEVENT
DTSTART;VALUE=DATE:20230619
DTEND;VALUE=DATE:20230620
DTSTAMP:20260423T164404
CREATED:20230228T170229Z
LAST-MODIFIED:20230309T143930Z
UID:6152-1687132800-1687219199@grandforks.org
SUMMARY:Juneteenth: EDC Office Closed
DESCRIPTION:The Grand Forks Region Economic Development Corporation will be closed on specific holidays throughout the year.
URL:https://grandforks.org/event/juneteenth-edc-office-closed/
LOCATION:Grand Forks Region Economic Development Corporation Office\, 120 N 4th St\, Grand Forks\, ND\, 58203\, United States
CATEGORIES:Holidays & Office Changes
END:VEVENT
BEGIN:VEVENT
DTSTART;TZID=America/Chicago:20230601T073000
DTEND;TZID=America/Chicago:20230601T093000
DTSTAMP:20260423T164404
CREATED:20230228T164855Z
LAST-MODIFIED:20230301T224105Z
UID:6127-1685604600-1685611800@grandforks.org
SUMMARY:June Board of Directors
DESCRIPTION:The Grand Forks Region Economic Development Corporation’s board of directors meet every month on the first Thursday of the month.
URL:https://grandforks.org/event/june-board-of-directors/
LOCATION:The HIVE GF\, 375 2nd Ave N\, Grand Forks\, ND\, 58203\, United States
CATEGORIES:Board of Directors Meeting
ATTACH;FMTTYPE=image/jpeg:https://grandforks.org/wp-content/uploads/2023/02/grand-forks-herald-building-4th-street-entrance.jpg
END:VEVENT
BEGIN:VEVENT
DTSTART;VALUE=DATE:20230601
DTEND;VALUE=DATE:20230802
DTSTAMP:20260423T164404
CREATED:20230531T144337Z
LAST-MODIFIED:20231215T134646Z
UID:6577-1685577600-1690934399@grandforks.org
SUMMARY:InternGF Applications for Fall '23 Open
DESCRIPTION:InternGF offers up to $3\,500 to offset an intern’s salary. Employers can apply for up to two internships per year. \nFall 2023 Internships | August 1 – December 1 \n\nApplications Open: June 1 – August 1\nPriority Deadline: July 1
URL:https://grandforks.org/event/interngf-apps-open/
LOCATION:Grand Forks Region Economic Development Corporation Office\, 120 N 4th St\, Grand Forks\, ND\, 58203\, United States
CATEGORIES:Funding Programs
ATTACH;FMTTYPE=image/jpeg:https://grandforks.org/wp-content/uploads/2023/05/interngf-students-smiling-school-brick-wall.jpg
END:VEVENT
BEGIN:VEVENT
DTSTART;VALUE=DATE:20230529
DTEND;VALUE=DATE:20230530
DTSTAMP:20260423T164404
CREATED:20230228T170037Z
LAST-MODIFIED:20230309T143939Z
UID:6148-1685318400-1685404799@grandforks.org
SUMMARY:Memorial Day: EDC Office Closed
DESCRIPTION:The Grand Forks Region Economic Development Corporation will be closed on specific holidays throughout the year.
URL:https://grandforks.org/event/memorial-day-edc-office-closed/
LOCATION:Grand Forks Region Economic Development Corporation Office\, 120 N 4th St\, Grand Forks\, ND\, 58203\, United States
CATEGORIES:Holidays & Office Changes
END:VEVENT
BEGIN:VEVENT
DTSTART;TZID=America/Chicago:20230503T073000
DTEND;TZID=America/Chicago:20230503T093000
DTSTAMP:20260423T164404
CREATED:20230228T164811Z
LAST-MODIFIED:20230428T191435Z
UID:6125-1683099000-1683106200@grandforks.org
SUMMARY:May Board of Directors
DESCRIPTION:The Grand Forks Region Economic Development Corporation’s board of directors meets every month on the first Thursday of the month. For the month of May\, it has been moved to Wednesday due to a scheduling conflict with CVIC’s annual breakfast.
URL:https://grandforks.org/event/may-board-of-directors/
LOCATION:The HIVE GF\, 375 2nd Ave N\, Grand Forks\, ND\, 58203\, United States
CATEGORIES:Board of Directors Meeting
ATTACH;FMTTYPE=image/jpeg:https://grandforks.org/wp-content/uploads/2023/02/grand-forks-herald-building-4th-street-entrance.jpg
END:VEVENT
BEGIN:VEVENT
DTSTART;VALUE=DATE:20230407
DTEND;VALUE=DATE:20230408
DTSTAMP:20260423T164404
CREATED:20230228T165939Z
LAST-MODIFIED:20230309T144344Z
UID:6144-1680825600-1680911999@grandforks.org
SUMMARY:Good Friday: EDC Office Closed
DESCRIPTION:The Grand Forks Region Economic Development Corporation will be closed on specific holidays throughout the year.
URL:https://grandforks.org/event/good-friday-edc-office-closed/
LOCATION:Grand Forks Region Economic Development Corporation Office\, 120 N 4th St\, Grand Forks\, ND\, 58203\, United States
CATEGORIES:Holidays & Office Changes
END:VEVENT
BEGIN:VEVENT
DTSTART;TZID=America/Chicago:20230406T073000
DTEND;TZID=America/Chicago:20230406T093000
DTSTAMP:20260423T164404
CREATED:20230228T164724Z
LAST-MODIFIED:20230301T224125Z
UID:6123-1680766200-1680773400@grandforks.org
SUMMARY:April Board of Directors
DESCRIPTION:
URL:https://grandforks.org/event/april-board-of-directors/
LOCATION:The HIVE GF\, 375 2nd Ave N\, Grand Forks\, ND\, 58203\, United States
CATEGORIES:Board of Directors Meeting
ATTACH;FMTTYPE=image/jpeg:https://grandforks.org/wp-content/uploads/2023/02/grand-forks-herald-building-4th-street-entrance.jpg
END:VEVENT
BEGIN:VEVENT
DTSTART;TZID=America/Chicago:20230330T160000
DTEND;TZID=America/Chicago:20230330T180000
DTSTAMP:20260423T164404
CREATED:20230215T204807Z
LAST-MODIFIED:20230215T204807Z
UID:6080-1680192000-1680199200@grandforks.org
SUMMARY:2023 Annual Meeting
DESCRIPTION:You are cordially invited to the 2023 Grand Forks Region Economic Development Corporation’s Annual Meeting! The event will take place on Thursday\, March 30\, 2023\, beginning at 4:00 pm at the Alerus Center in Grand Forks\, ND.
URL:https://grandforks.org/event/annual-meeting/
LOCATION:Alerus Center\, Grand Forks\, ND\, 58201
ATTACH;FMTTYPE=image/jpeg:https://grandforks.org/wp-content/uploads/2023/01/2023-Annual-Meeting-Logo-Web-Graphic-V03_Page_2-1.jpg
END:VEVENT
BEGIN:VEVENT
DTSTART;TZID=America/Chicago:20230309T163000
DTEND;TZID=America/Chicago:20230309T173000
DTSTAMP:20260423T164404
CREATED:20230228T164602Z
LAST-MODIFIED:20230309T144132Z
UID:6121-1678379400-1678383000@grandforks.org
SUMMARY:Manufacturing Roundtable
DESCRIPTION:For more information about the Manufacturing Roundtable\, please contact Kevin Hatcher.
URL:https://grandforks.org/event/manufacturing-roundtable/
LOCATION:UND Harrington Jodsaas Center\, 243 Centennial Dr\, Grand Forks\, ND\, 58202\, United States
END:VEVENT
BEGIN:VEVENT
DTSTART;TZID=America/Chicago:20230302T073000
DTEND;TZID=America/Chicago:20230302T090000
DTSTAMP:20260423T164404
CREATED:20230228T164349Z
LAST-MODIFIED:20230301T224132Z
UID:6119-1677742200-1677747600@grandforks.org
SUMMARY:March Board of Directors
DESCRIPTION:
URL:https://grandforks.org/event/march-board-of-directors-meeting/
LOCATION:The HIVE GF\, 375 2nd Ave N\, Grand Forks\, ND\, 58203\, United States
CATEGORIES:Board of Directors Meeting
ATTACH;FMTTYPE=image/jpeg:https://grandforks.org/wp-content/uploads/2023/02/grand-forks-herald-building-4th-street-entrance.jpg
END:VEVENT
BEGIN:VEVENT
DTSTART;TZID=America/Chicago:20221109T080000
DTEND;TZID=America/Chicago:20221109T160000
DTSTAMP:20260423T164404
CREATED:20221109T163303Z
LAST-MODIFIED:20221109T183932Z
UID:3084-1667980800-1668009600@grandforks.org
SUMMARY:HRVIP Day
DESCRIPTION:HR VIP Day will be an interactive day filled with workforce development experts\, open discussion forums\, and networking opportunities. Meet the people behind the programs and learn from local businesses that have already implemented successful workforce strategies.
URL:https://grandforks.org/event/hrvip-day/
LOCATION:Minnkota Power\, 5301 32nd Ave S\, Grand Forks\, ND\, 58201\, United States
ORGANIZER;CN="Becca Cruger":MAILTO:beccac@grandforksorg
END:VEVENT
END:VCALENDAR