BEGIN:VCALENDAR
VERSION:2.0
PRODID:-//Grand Forks EDC | Grand Forks, ND - ECPv6.15.20//NONSGML v1.0//EN
CALSCALE:GREGORIAN
METHOD:PUBLISH
X-WR-CALNAME:Grand Forks EDC | Grand Forks, ND
X-ORIGINAL-URL:https://grandforks.org
X-WR-CALDESC:Events for Grand Forks EDC | Grand Forks, ND
REFRESH-INTERVAL;VALUE=DURATION:PT1H
X-Robots-Tag:noindex
X-PUBLISHED-TTL:PT1H
BEGIN:VTIMEZONE
TZID:America/Chicago
BEGIN:DAYLIGHT
TZOFFSETFROM:-0600
TZOFFSETTO:-0500
TZNAME:CDT
DTSTART:20220313T080000
END:DAYLIGHT
BEGIN:STANDARD
TZOFFSETFROM:-0500
TZOFFSETTO:-0600
TZNAME:CST
DTSTART:20221106T070000
END:STANDARD
BEGIN:DAYLIGHT
TZOFFSETFROM:-0600
TZOFFSETTO:-0500
TZNAME:CDT
DTSTART:20230312T080000
END:DAYLIGHT
BEGIN:STANDARD
TZOFFSETFROM:-0500
TZOFFSETTO:-0600
TZNAME:CST
DTSTART:20231105T070000
END:STANDARD
BEGIN:DAYLIGHT
TZOFFSETFROM:-0600
TZOFFSETTO:-0500
TZNAME:CDT
DTSTART:20240310T080000
END:DAYLIGHT
BEGIN:STANDARD
TZOFFSETFROM:-0500
TZOFFSETTO:-0600
TZNAME:CST
DTSTART:20241103T070000
END:STANDARD
BEGIN:DAYLIGHT
TZOFFSETFROM:-0600
TZOFFSETTO:-0500
TZNAME:CDT
DTSTART:20250309T080000
END:DAYLIGHT
BEGIN:STANDARD
TZOFFSETFROM:-0500
TZOFFSETTO:-0600
TZNAME:CST
DTSTART:20251102T070000
END:STANDARD
END:VTIMEZONE
BEGIN:VEVENT
DTSTART;VALUE=DATE:20240722
DTEND;VALUE=DATE:20240723
DTSTAMP:20260423T173701
CREATED:20240412T154816Z
LAST-MODIFIED:20240412T154816Z
UID:7779-1721606400-1721692799@grandforks.org
SUMMARY:September PACE/FlexPACE Applications Due
DESCRIPTION:Participating in the Assisting Community Expansion (PACE) Program\, the Grand Forks Growth Fund may provide a no-interest\, deferred loan up to $269\,000 to leverage a Bank of North Dakota grant up to $500\,000 to collectively reduce the interest paid on a loan used to acquire land or equipment on for working capital. \nDon’t fit the traditional definition of the PACE program? FlexPACE is a flexible program where the Grand Forks Growth Fund may provide a loan of up to $107\,000 to leverage a Bank of North Dakota grant portion of up to $200\,000. \nTo apply for either program\, please contact EDC business development staff. Applications are reviewed and approved by the EDC Board of Directors at monthly meetings before progressing to the Grand Forks Growth Fund.
URL:https://grandforks.org/event/september-pace-flexpace-applications-due/
LOCATION:Grand Forks Region Economic Development Corporation Office\, 120 N 4th St\, Grand Forks\, ND\, 58203\, United States
CATEGORIES:Funding Programs
ATTACH;FMTTYPE=image/jpeg:https://grandforks.org/wp-content/uploads/edc-mkt-grap-cal-24-pace-flexpace-apps-calendar-graphic-rgb-16-9.jpg
END:VEVENT
BEGIN:VEVENT
DTSTART;TZID=America/Chicago:20240711T073000
DTEND;TZID=America/Chicago:20240711T090000
DTSTAMP:20260423T173701
CREATED:20231211T174303Z
LAST-MODIFIED:20231211T174303Z
UID:7156-1720683000-1720688400@grandforks.org
SUMMARY:July 2024 Advisory Board Meeting
DESCRIPTION:The Grand Forks Region Economic Development Corporation’s Advisory Board meets three times a year on the second Thursday of the meeting month. \n2024 Meetings \n\nFebruary 8\nJuly 11\nOctober 10
URL:https://grandforks.org/event/july-2024-advisory-board-meeting/
LOCATION:The HIVE GF\, 375 2nd Ave N\, Grand Forks\, ND\, 58203\, United States
CATEGORIES:Advisory Board Meeting
ATTACH;FMTTYPE=image/jpeg:https://grandforks.org/wp-content/uploads/2023/02/edc-outside-sign-summer-calendar-event.jpg
END:VEVENT
BEGIN:VEVENT
DTSTART;VALUE=DATE:20240704
DTEND;VALUE=DATE:20240705
DTSTAMP:20260423T173701
CREATED:20231211T180321Z
LAST-MODIFIED:20231211T180321Z
UID:7168-1720051200-1720137599@grandforks.org
SUMMARY:Independence Day 2024: EDC Office Closed
DESCRIPTION:The Grand Forks Region Economic Development Corporation will be closed on specific holidays throughout the year.
URL:https://grandforks.org/event/independence-day-24-edc-office-closed/
LOCATION:Grand Forks Region Economic Development Corporation Office\, 120 N 4th St\, Grand Forks\, ND\, 58203\, United States
CATEGORIES:Holidays & Office Changes
END:VEVENT
BEGIN:VEVENT
DTSTART;VALUE=DATE:20240701
DTEND;VALUE=DATE:20241101
DTSTAMP:20260423T173701
CREATED:20231101T215436Z
LAST-MODIFIED:20231101T215436Z
UID:6999-1719792000-1730419199@grandforks.org
SUMMARY:Intern GF Applications for Spring '25 Open
DESCRIPTION:InternGF offers up to $3\,500 to offset an intern’s salary. Employers can apply for up to two internships per year. Eligible applicants must be an early-to-mid-stage startup or a member organization of the EDC that can offer an internship not routinely found in the greater Grand Forks region. \nSpring Internships | Jan 1 – May 1 \n\nApplications Open: July 1 – October 31\nPriority Deadline: September 1
URL:https://grandforks.org/event/intern-gf-applications-for-spring-25/
LOCATION:Grand Forks Region Economic Development Corporation Office\, 120 N 4th St\, Grand Forks\, ND\, 58203\, United States
CATEGORIES:Funding Programs
ATTACH;FMTTYPE=image/jpeg:https://grandforks.org/wp-content/uploads/2023/05/interngf-students-smiling-school-brick-wall.jpg
END:VEVENT
BEGIN:VEVENT
DTSTART;VALUE=DATE:20240624
DTEND;VALUE=DATE:20240625
DTSTAMP:20260423T173701
CREATED:20240412T154631Z
LAST-MODIFIED:20240412T154631Z
UID:7776-1719187200-1719273599@grandforks.org
SUMMARY:August PACE/FlexPACE Applications Due
DESCRIPTION:Participating in the Assisting Community Expansion (PACE) Program\, the Grand Forks Growth Fund may provide a no-interest\, deferred loan up to $269\,000 to leverage a Bank of North Dakota grant up to $500\,000 to collectively reduce the interest paid on a loan used to acquire land or equipment on for working capital. \nDon’t fit the traditional definition of the PACE program? FlexPACE is a flexible program where the Grand Forks Growth Fund may provide a loan of up to $107\,000 to leverage a Bank of North Dakota grant portion of up to $200\,000. \nTo apply for either program\, please contact EDC business development staff. Applications are reviewed and approved by the EDC Board of Directors at monthly meetings before progressing to the Grand Forks Growth Fund.
URL:https://grandforks.org/event/august-pace-flexpace-applications-due/
LOCATION:Grand Forks Region Economic Development Corporation Office\, 120 N 4th St\, Grand Forks\, ND\, 58203\, United States
CATEGORIES:Funding Programs
ATTACH;FMTTYPE=image/jpeg:https://grandforks.org/wp-content/uploads/edc-mkt-grap-cal-24-pace-flexpace-apps-calendar-graphic-rgb-16-9.jpg
END:VEVENT
BEGIN:VEVENT
DTSTART;VALUE=DATE:20240619
DTEND;VALUE=DATE:20240620
DTSTAMP:20260423T173701
CREATED:20231211T180205Z
LAST-MODIFIED:20231211T180205Z
UID:7169-1718755200-1718841599@grandforks.org
SUMMARY:Juneteenth 2024: EDC Office Closed
DESCRIPTION:The Grand Forks Region Economic Development Corporation will be closed on specific holidays throughout the year.
URL:https://grandforks.org/event/juneteenth-24-edc-office-closed/
LOCATION:Grand Forks Region Economic Development Corporation Office\, 120 N 4th St\, Grand Forks\, ND\, 58203\, United States
CATEGORIES:Holidays & Office Changes
END:VEVENT
BEGIN:VEVENT
DTSTART;TZID=America/Chicago:20240613T150000
DTEND;TZID=America/Chicago:20240613T170000
DTSTAMP:20260423T173701
CREATED:20240523T173103Z
LAST-MODIFIED:20240523T173103Z
UID:7899-1718290800-1718298000@grandforks.org
SUMMARY:PS Industries 50th Anniversary Open House
DESCRIPTION:Help celebrate a company that started from humble beginnings right here in Grand Forks and has grown to become one of the largest manufacturers in the region. PS Industries Incorporated offers one of the leading flood control product lines in the world. \nThe Open House will provide an excellent opportunity for networking\, collaboration\, and an exclusive look into the products manufactured and shipped all over the world from Grand Forks. Your presence will enrich the event and contribute to its success. Cake and refreshments will be available.
URL:https://grandforks.org/event/ps-industries-50th-anniversary-open-house/
LOCATION:PS Industries Incorproated\, 1150 S. 48th Street\, Grand Forks\, ND\, 58201\, United States
CATEGORIES:Events
ATTACH;FMTTYPE=image/png:https://grandforks.org/wp-content/uploads/ps-industries-50th-open-house-6.13.png
END:VEVENT
BEGIN:VEVENT
DTSTART;TZID=America/Chicago:20240606T073000
DTEND;TZID=America/Chicago:20240606T093000
DTSTAMP:20260423T173701
CREATED:20231211T172858Z
LAST-MODIFIED:20231211T172858Z
UID:7136-1717659000-1717666200@grandforks.org
SUMMARY:June 2024 Board of Directors
DESCRIPTION:The Grand Forks Region Economic Development Corporation’s board of directors meets every month on the first Thursday of the month. \n2024 Schedule: \n\nJanuary 4\nFebruary 2\nMarch 7\nApril 4\nMay 2\nJune 6\nAugust 1\nSeptember 5\nOctober 3\nNovember 7\nDecember 5
URL:https://grandforks.org/event/june-24-board-of-directors/
LOCATION:The HIVE GF\, 375 2nd Ave N\, Grand Forks\, ND\, 58203\, United States
CATEGORIES:Board of Directors Meeting
ATTACH;FMTTYPE=image/jpeg:https://grandforks.org/wp-content/uploads/2023/02/grand-forks-herald-building-4th-street-entrance.jpg
END:VEVENT
BEGIN:VEVENT
DTSTART;VALUE=DATE:20240601
DTEND;VALUE=DATE:20240802
DTSTAMP:20260423T173701
CREATED:20231101T215324Z
LAST-MODIFIED:20231101T215324Z
UID:6997-1717200000-1722556799@grandforks.org
SUMMARY:Intern GF Applications for Fall '24 Open
DESCRIPTION:InternGF offers up to $3\,500 to offset an intern’s salary. Employers can apply for up to two internships per year. Eligible applicants must be an early-to-mid-stage startup or a member organization of the EDC that can offer an internship not routinely found in the greater Grand Forks region. \nFall Internships | August 1 – December 31 \n\nApplications Open: June 1 – August 1\nPriority Deadline: July 1
URL:https://grandforks.org/event/intern-gf-applications-for-fall-24/
LOCATION:Grand Forks Region Economic Development Corporation Office\, 120 N 4th St\, Grand Forks\, ND\, 58203\, United States
CATEGORIES:Funding Programs
ATTACH;FMTTYPE=image/jpeg:https://grandforks.org/wp-content/uploads/2023/05/interngf-students-smiling-school-brick-wall.jpg
END:VEVENT
BEGIN:VEVENT
DTSTART;VALUE=DATE:20240528
DTEND;VALUE=DATE:20240529
DTSTAMP:20260423T173701
CREATED:20240412T152023Z
LAST-MODIFIED:20240412T154528Z
UID:7775-1716854400-1716940799@grandforks.org
SUMMARY:July PACE/FlexPACE Applications Due
DESCRIPTION:Participating in the Assisting Community Expansion (PACE) Program\, the Grand Forks Growth Fund may provide a no-interest\, deferred loan up to $269\,000 to leverage a Bank of North Dakota grant up to $500\,000 to collectively reduce the interest paid on a loan used to acquire land or equipment on for working capital. \nDon’t fit the traditional definition of the PACE program? FlexPACE is a flexible program where the Grand Forks Growth Fund may provide a loan of up to $107\,000 to leverage a Bank of North Dakota grant portion of up to $200\,000. \nTo apply for either program\, please contact EDC business development staff. Applications are reviewed and approved by the EDC Board of Directors at monthly meetings before progressing to the Grand Forks Growth Fund.
URL:https://grandforks.org/event/july-pace-flexpace-applications-due/
LOCATION:Grand Forks Region Economic Development Corporation Office\, 120 N 4th St\, Grand Forks\, ND\, 58203\, United States
CATEGORIES:Funding Programs
ATTACH;FMTTYPE=image/jpeg:https://grandforks.org/wp-content/uploads/edc-mkt-grap-cal-24-pace-flexpace-apps-calendar-graphic-rgb-16-9.jpg
END:VEVENT
BEGIN:VEVENT
DTSTART;VALUE=DATE:20240527
DTEND;VALUE=DATE:20240528
DTSTAMP:20260423T173701
CREATED:20231211T180558Z
LAST-MODIFIED:20231211T180558Z
UID:7170-1716768000-1716854399@grandforks.org
SUMMARY:Memorial Day 2024: EDC Office Closed
DESCRIPTION:The Grand Forks Region Economic Development Corporation will be closed on specific holidays throughout the year.
URL:https://grandforks.org/event/memorial-day-24-edc-office-closed/
LOCATION:Grand Forks Region Economic Development Corporation Office\, 120 N 4th St\, Grand Forks\, ND\, 58203\, United States
CATEGORIES:Holidays & Office Changes
END:VEVENT
BEGIN:VEVENT
DTSTART;TZID=America/Chicago:20240502T073000
DTEND;TZID=America/Chicago:20240502T093000
DTSTAMP:20260423T173701
CREATED:20231211T172614Z
LAST-MODIFIED:20231211T172614Z
UID:7137-1714635000-1714642200@grandforks.org
SUMMARY:May 2024 Board of Directors
DESCRIPTION:The Grand Forks Region Economic Development Corporation’s board of directors meets every month on the first Thursday of the month. \n2024 Schedule: \n\nJanuary 4\nFebruary 2\nMarch 7\nApril 4\nMay 2\nJune 6\nAugust 1\nSeptember 5\nOctober 3\nNovember 7\nDecember 5
URL:https://grandforks.org/event/may-24-board-of-directors/
LOCATION:The HIVE GF\, 375 2nd Ave N\, Grand Forks\, ND\, 58203\, United States
CATEGORIES:Board of Directors Meeting
ATTACH;FMTTYPE=image/jpeg:https://grandforks.org/wp-content/uploads/2023/02/grand-forks-herald-building-4th-street-entrance.jpg
END:VEVENT
BEGIN:VEVENT
DTSTART;VALUE=DATE:20240422
DTEND;VALUE=DATE:20240423
DTSTAMP:20260423T173701
CREATED:20240412T145229Z
LAST-MODIFIED:20240412T151209Z
UID:7769-1713744000-1713830399@grandforks.org
SUMMARY:June PACE/FlexPACE Applications Due
DESCRIPTION:Participating in the Assisting Community Expansion (PACE) Program\, the Grand Forks Growth Fund may provide a no-interest\, deferred loan up to $269\,000 to leverage a Bank of North Dakota grant up to $500\,000 to collectively reduce the interest paid on a loan used to acquire land or equipment on for working capital. \nDon’t fit the traditional definition of the PACE program? FlexPACE is a flexible program where the Grand Forks Growth Fund may provide a loan of up to $107\,000 to leverage a Bank of North Dakota grant portion of up to $200\,000. \nTo apply for either program\, please contact EDC business development staff. Applications are reviewed and approved by the EDC Board of Directors at monthly meetings before progressing to the Grand Forks Growth Fund.
URL:https://grandforks.org/event/june-pace-flexpace-applications-due-april-22/
LOCATION:Grand Forks Region Economic Development Corporation Office\, 120 N 4th St\, Grand Forks\, ND\, 58203\, United States
CATEGORIES:Funding Programs
ATTACH;FMTTYPE=image/jpeg:https://grandforks.org/wp-content/uploads/edc-mkt-grap-cal-24-pace-flexpace-apps-calendar-graphic-rgb-16-9.jpg
END:VEVENT
BEGIN:VEVENT
DTSTART;TZID=America/Chicago:20240404T073000
DTEND;TZID=America/Chicago:20240404T093000
DTSTAMP:20260423T173701
CREATED:20231211T172349Z
LAST-MODIFIED:20231211T172643Z
UID:7138-1712215800-1712223000@grandforks.org
SUMMARY:April 2024 Board of Directors
DESCRIPTION:The Grand Forks Region Economic Development Corporation’s board of directors meets every month on the first Thursday of the month. \n2024 Schedule: \n\nJanuary 4\nFebruary 2\nMarch 7\nApril 4\nMay 2\nJune 6\nAugust 1\nSeptember 5\nOctober 3\nNovember 7\nDecember 5
URL:https://grandforks.org/event/april-24-board-of-directors/
LOCATION:The HIVE GF\, 375 2nd Ave N\, Grand Forks\, ND\, 58203\, United States
CATEGORIES:Board of Directors Meeting
ATTACH;FMTTYPE=image/jpeg:https://grandforks.org/wp-content/uploads/2023/02/grand-forks-herald-building-4th-street-entrance.jpg
END:VEVENT
BEGIN:VEVENT
DTSTART;VALUE=DATE:20240329
DTEND;VALUE=DATE:20240330
DTSTAMP:20260423T173701
CREATED:20231211T180738Z
LAST-MODIFIED:20231211T180738Z
UID:7171-1711670400-1711756799@grandforks.org
SUMMARY:Good Friday 2024: EDC Office Closed
DESCRIPTION:The Grand Forks Region Economic Development Corporation will be closed on specific holidays throughout the year.
URL:https://grandforks.org/event/good-friday-24-edc-office-closed/
LOCATION:Grand Forks Region Economic Development Corporation Office\, 120 N 4th St\, Grand Forks\, ND\, 58203\, United States
CATEGORIES:Holidays & Office Changes
END:VEVENT
BEGIN:VEVENT
DTSTART;TZID=America/Chicago:20240326T160000
DTEND;TZID=America/Chicago:20240326T180000
DTSTAMP:20260423T173701
CREATED:20231211T180014Z
LAST-MODIFIED:20231211T180014Z
UID:7173-1711468800-1711476000@grandforks.org
SUMMARY:2024 Annual Meeting
DESCRIPTION:You are cordially invited to the 2024 Grand Forks Region Economic Development Corporation’s Annual Meeting! The event will take place on Tuesday\, March 26\, 2024\, beginning at 4:00 pm at the Alerus Center in Grand Forks\, ND.
URL:https://grandforks.org/event/2024-annual-meeting/
LOCATION:Alerus Center\, Grand Forks\, ND\, 58201
ATTACH;FMTTYPE=image/jpeg:https://grandforks.org/wp-content/uploads/2023/01/2023-Annual-Meeting-Logo-Web-Graphic-V03_Page_2-1.jpg
END:VEVENT
BEGIN:VEVENT
DTSTART;TZID=America/Chicago:20240307T100000
DTEND;TZID=America/Chicago:20240307T103000
DTSTAMP:20260423T173701
CREATED:20240228T215652Z
LAST-MODIFIED:20240304T185916Z
UID:7549-1709805600-1709807400@grandforks.org
SUMMARY:Press Conference: Regional Workforce Impact Program Funding Announcement
DESCRIPTION:The Grand Forks Region Economic Development Corporation has received Regional Workforce Impact Program grant funding dollars! Join us at the Press Conference announcing the major workforce funding efforts at The HIVE in the Community Room on Thursday\, March 7\, 2024\, at 10 am.
URL:https://grandforks.org/event/press-conference-rwip-funding-announcement/
LOCATION:The HIVE GF\, Community Room\, 375 2nd Ave N\, Grand Forks\, 58203\, United States
CATEGORIES:Events
ATTACH;FMTTYPE=image/jpeg:https://grandforks.org/wp-content/uploads/20220912-edc-mkt-office-entrance-1.jpg
END:VEVENT
BEGIN:VEVENT
DTSTART;TZID=America/Chicago:20240307T073000
DTEND;TZID=America/Chicago:20240307T093000
DTSTAMP:20260423T173701
CREATED:20231211T172114Z
LAST-MODIFIED:20231211T172714Z
UID:7139-1709796600-1709803800@grandforks.org
SUMMARY:March 2024 Board of Directors
DESCRIPTION:The Grand Forks Region Economic Development Corporation’s board of directors meets every month on the first Thursday of the month. \n2024 Schedule: \n\nJanuary 4\nFebruary 2\nMarch 7\nApril 4\nMay 2\nJune 6\nAugust 1\nSeptember 5\nOctober 3\nNovember 7\nDecember 5
URL:https://grandforks.org/event/march-24-board-of-directors/
LOCATION:The HIVE GF\, 375 2nd Ave N\, Grand Forks\, ND\, 58203\, United States
CATEGORIES:Board of Directors Meeting
ATTACH;FMTTYPE=image/jpeg:https://grandforks.org/wp-content/uploads/2023/02/grand-forks-herald-building-4th-street-entrance.jpg
END:VEVENT
BEGIN:VEVENT
DTSTART;VALUE=DATE:20240219
DTEND;VALUE=DATE:20240220
DTSTAMP:20260423T173701
CREATED:20231211T181909Z
LAST-MODIFIED:20231211T181909Z
UID:7181-1708300800-1708387199@grandforks.org
SUMMARY:Presidents Day 2024: EDC Office Closed
DESCRIPTION:The Grand Forks Region Economic Development Corporation will be closed on specific holidays throughout the year.
URL:https://grandforks.org/event/presidents-day-2024/
LOCATION:Grand Forks Region Economic Development Corporation Office\, 120 N 4th St\, Grand Forks\, ND\, 58203\, United States
CATEGORIES:Holidays & Office Changes
END:VEVENT
BEGIN:VEVENT
DTSTART;TZID=America/Chicago:20240208T073000
DTEND;TZID=America/Chicago:20240208T090000
DTSTAMP:20260423T173701
CREATED:20231211T174058Z
LAST-MODIFIED:20231211T174058Z
UID:7154-1707377400-1707382800@grandforks.org
SUMMARY:February 2024 Advisory Board Meeting
DESCRIPTION:The Grand Forks Region Economic Development Corporation’s Advisory Board meets three times a year on the second Thursday of the meeting month. \n2024 Meetings \n\nFebruary 8\nJuly 11\nOctober 10
URL:https://grandforks.org/event/february-24-advisory-board-meeting/
LOCATION:The HIVE GF\, 375 2nd Ave N\, Grand Forks\, ND\, 58203\, United States
CATEGORIES:Advisory Board Meeting
ATTACH;FMTTYPE=image/jpeg:https://grandforks.org/wp-content/uploads/2023/02/edc-outside-sign-summer-calendar-event.jpg
END:VEVENT
BEGIN:VEVENT
DTSTART;TZID=America/Chicago:20240202T073000
DTEND;TZID=America/Chicago:20240202T093000
DTSTAMP:20260423T173701
CREATED:20231211T171947Z
LAST-MODIFIED:20231211T172749Z
UID:7130-1706859000-1706866200@grandforks.org
SUMMARY:February 2024 Board of Directors
DESCRIPTION:The Grand Forks Region Economic Development Corporation’s board of directors meets every month on the first Thursday of the month. \n2024 Schedule: \n\nJanuary 4\nFebruary 2\nMarch 7\nApril 4\nMay 2\nJune 6\nAugust 1\nSeptember 5\nOctober 3\nNovember 7\nDecember 5
URL:https://grandforks.org/event/february-24-board-of-directors/
LOCATION:The HIVE GF\, 375 2nd Ave N\, Grand Forks\, ND\, 58203\, United States
CATEGORIES:Board of Directors Meeting
ATTACH;FMTTYPE=image/jpeg:https://grandforks.org/wp-content/uploads/2023/02/grand-forks-herald-building-4th-street-entrance.jpg
END:VEVENT
BEGIN:VEVENT
DTSTART;TZID=America/Chicago:20240201T080000
DTEND;TZID=America/Chicago:20240201T093000
DTSTAMP:20260423T173701
CREATED:20240116T154311Z
LAST-MODIFIED:20240116T155002Z
UID:7347-1706774400-1706779800@grandforks.org
SUMMARY:2024 InternGF Launch Party
DESCRIPTION:Join the UND Center for Innovation and Grand Forks Region EDC on February 1\, 2024\, from 8:00 – 9:30 AM for the 2024 Launch of InternGF! Enjoy breakfast\, learn about InternGF internship funding opportunities\, hear from past participants\, and celebrate successes! \nFor six years InternGF has worked to fund local internships that connect UND students with the Grand Forks ecosystem. \nInternGF is a unique partnership between the UND Center for Innovation and the Grand Forks Region Economic Development Corporation. It is designed to introduce UND students to high-wage\, in-demand careers and employers in the Grand Forks region. The goal of the program is to aid in local recruitment and retention efforts by showcasing regional companies\, career opportunities\, and community assets. \n  \nEvent Outline \n8:00 AM – Breakfast \n8:15 AM – Welcome and Program Overview \n8:25 AM – Panel of InternGF participants \n9:00 AM – Ending Session: How to Get Started with Internships \n9:20-9:30 AM – Social \n  \nRSVP by January 31\, 2024 \nLearn More About InternGF
URL:https://grandforks.org/event/2024-interngf-launch-party/
LOCATION:Center For Innovation\, Idea Lab\, 4200 James Ray Drive\, Grand Forks\, ND\, 58202\, United States
CATEGORIES:Funding Programs
ATTACH;FMTTYPE=image/jpeg:https://grandforks.org/wp-content/uploads/2024-interngf-launch-party-web-event-20230808-nc-und-interngf-ps-industries-3.jpg
ORGANIZER;CN="Brenna Mathiason":MAILTO:brennam@grandforks.org
END:VEVENT
BEGIN:VEVENT
DTSTART;TZID=America/Chicago:20240104T073000
DTEND;TZID=America/Chicago:20240104T093000
DTSTAMP:20260423T173701
CREATED:20231211T171727Z
LAST-MODIFIED:20231211T172817Z
UID:7128-1704353400-1704360600@grandforks.org
SUMMARY:January 2024 Board of Directors
DESCRIPTION:The Grand Forks Region Economic Development Corporation’s board of directors meets every month on the first Thursday of the month. \n2024 Schedule: \n\nJanuary 4\nFebruary 2\nMarch 7\nApril 4\nMay 2\nJune 6\nAugust 1\nSeptember 5\nOctober 3\nNovember 7\nDecember 5
URL:https://grandforks.org/event/january-24-board-of-directors/
LOCATION:The HIVE GF\, 375 2nd Ave N\, Grand Forks\, ND\, 58203\, United States
CATEGORIES:Board of Directors Meeting
ATTACH;FMTTYPE=image/jpeg:https://grandforks.org/wp-content/uploads/2023/02/grand-forks-herald-building-4th-street-entrance.jpg
END:VEVENT
BEGIN:VEVENT
DTSTART;VALUE=DATE:20240101
DTEND;VALUE=DATE:20240302
DTSTAMP:20260423T173701
CREATED:20231101T214103Z
LAST-MODIFIED:20231101T214103Z
UID:6993-1704067200-1709337599@grandforks.org
SUMMARY:Intern GF Applications for Summer '24 Open
DESCRIPTION:InternGF offers up to $3\,500 to offset an intern’s salary. Employers can apply for up to two internships per year. Eligible applicants must be an early-to-mid-stage startup or a member organization of the EDC that can offer an internship not routinely found in the greater Grand Forks region. \nSummer Internships | May 1 – August 31 \n\nApplications Open: January 1 – March 1\nPriority Deadline: February 1
URL:https://grandforks.org/event/intern-gf-applications-for-summer-24-open/
LOCATION:Grand Forks Region Economic Development Corporation Office\, 120 N 4th St\, Grand Forks\, ND\, 58203\, United States
CATEGORIES:Funding Programs
ATTACH;FMTTYPE=image/jpeg:https://grandforks.org/wp-content/uploads/2023/05/interngf-students-smiling-school-brick-wall.jpg
END:VEVENT
BEGIN:VEVENT
DTSTART;VALUE=DATE:20240101
DTEND;VALUE=DATE:20240102
DTSTAMP:20260423T173701
CREATED:20231211T181719Z
LAST-MODIFIED:20231211T181719Z
UID:7180-1704067200-1704153599@grandforks.org
SUMMARY:New Year's 2024: EDC Office Closed
DESCRIPTION:The Grand Forks Region Economic Development Corporation will be closed on specific holidays throughout the year.
URL:https://grandforks.org/event/new-years-2024-edc-office-closed/
LOCATION:Grand Forks Region Economic Development Corporation Office\, 120 N 4th St\, Grand Forks\, ND\, 58203\, United States
CATEGORIES:Holidays & Office Changes
END:VEVENT
BEGIN:VEVENT
DTSTART;VALUE=DATE:20231225
DTEND;VALUE=DATE:20231226
DTSTAMP:20260423T173701
CREATED:20230228T170504Z
LAST-MODIFIED:20231212T163927Z
UID:6158-1703462400-1703548799@grandforks.org
SUMMARY:Christmas: EDC Office Closed
DESCRIPTION:The Grand Forks Region Economic Development Corporation will be closed on specific holidays throughout the year.
URL:https://grandforks.org/event/christmas-edc-office-closed/
LOCATION:Grand Forks Region Economic Development Corporation Office\, 120 N 4th St\, Grand Forks\, ND\, 58203\, United States
CATEGORIES:Holidays & Office Changes
ATTACH;FMTTYPE=image/jpeg:https://grandforks.org/wp-content/uploads/2023/02/edc-outside-sign-summer-calendar-event.jpg
END:VEVENT
BEGIN:VEVENT
DTSTART;TZID=America/Chicago:20231207T073000
DTEND;TZID=America/Chicago:20231207T093000
DTSTAMP:20260423T173701
CREATED:20230228T165500Z
LAST-MODIFIED:20230301T224011Z
UID:6139-1701934200-1701941400@grandforks.org
SUMMARY:December Board of Directors
DESCRIPTION:The Grand Forks Region Economic Development Corporation’s board of directors meets every month on the first Thursday of the month.
URL:https://grandforks.org/event/december-board-of-directors/
LOCATION:The HIVE GF\, 375 2nd Ave N\, Grand Forks\, ND\, 58203\, United States
CATEGORIES:Board of Directors Meeting
ATTACH;FMTTYPE=image/jpeg:https://grandforks.org/wp-content/uploads/2023/02/grand-forks-herald-building-4th-street-entrance.jpg
END:VEVENT
BEGIN:VEVENT
DTSTART;VALUE=DATE:20231123
DTEND;VALUE=DATE:20231124
DTSTAMP:20260423T173701
CREATED:20230228T170422Z
LAST-MODIFIED:20230309T143907Z
UID:6156-1700697600-1700783999@grandforks.org
SUMMARY:Thanksgiving: EDC Office Closed
DESCRIPTION:The Grand Forks Region Economic Development Corporation will be closed on specific holidays throughout the year.
URL:https://grandforks.org/event/thanksgiving-edc-office-closed/
LOCATION:Grand Forks Region Economic Development Corporation Office\, 120 N 4th St\, Grand Forks\, ND\, 58203\, United States
CATEGORIES:Holidays & Office Changes
END:VEVENT
BEGIN:VEVENT
DTSTART;TZID=America/Chicago:20231102T073000
DTEND;TZID=America/Chicago:20231102T093000
DTSTAMP:20260423T173701
CREATED:20230228T165417Z
LAST-MODIFIED:20230301T224027Z
UID:6137-1698910200-1698917400@grandforks.org
SUMMARY:November Board of Directors
DESCRIPTION:The Grand Forks Region Economic Development Corporation’s board of directors meets every month on the first Thursday of the month.
URL:https://grandforks.org/event/november-board-of-directors/
LOCATION:The HIVE GF\, 375 2nd Ave N\, Grand Forks\, ND\, 58203\, United States
CATEGORIES:Board of Directors Meeting
ATTACH;FMTTYPE=image/jpeg:https://grandforks.org/wp-content/uploads/2023/02/grand-forks-herald-building-4th-street-entrance.jpg
END:VEVENT
BEGIN:VEVENT
DTSTART;TZID=America/Chicago:20231012T073000
DTEND;TZID=America/Chicago:20231012T090000
DTSTAMP:20260423T173701
CREATED:20230228T165707Z
LAST-MODIFIED:20230301T230035Z
UID:6142-1697095800-1697101200@grandforks.org
SUMMARY:October Advisory Board Meeting
DESCRIPTION:The Grand Forks Region Economic Development Corporation’s Advisory Board meets three times a year on the second Thursday of the meeting month.
URL:https://grandforks.org/event/october-advisory-board-meeting/
LOCATION:The HIVE GF\, 375 2nd Ave N\, Grand Forks\, ND\, 58203\, United States
CATEGORIES:Advisory Board Meeting
ATTACH;FMTTYPE=image/jpeg:https://grandforks.org/wp-content/uploads/2023/02/edc-outside-sign-summer-calendar-event.jpg
END:VEVENT
END:VCALENDAR