BEGIN:VCALENDAR
VERSION:2.0
PRODID:-//Grand Forks EDC | Grand Forks, ND - ECPv6.15.20//NONSGML v1.0//EN
CALSCALE:GREGORIAN
METHOD:PUBLISH
X-WR-CALNAME:Grand Forks EDC | Grand Forks, ND
X-ORIGINAL-URL:https://grandforks.org
X-WR-CALDESC:Events for Grand Forks EDC | Grand Forks, ND
REFRESH-INTERVAL;VALUE=DURATION:PT1H
X-Robots-Tag:noindex
X-PUBLISHED-TTL:PT1H
BEGIN:VTIMEZONE
TZID:America/Chicago
BEGIN:DAYLIGHT
TZOFFSETFROM:-0600
TZOFFSETTO:-0500
TZNAME:CDT
DTSTART:20250309T080000
END:DAYLIGHT
BEGIN:STANDARD
TZOFFSETFROM:-0500
TZOFFSETTO:-0600
TZNAME:CST
DTSTART:20251102T070000
END:STANDARD
BEGIN:DAYLIGHT
TZOFFSETFROM:-0600
TZOFFSETTO:-0500
TZNAME:CDT
DTSTART:20260308T080000
END:DAYLIGHT
BEGIN:STANDARD
TZOFFSETFROM:-0500
TZOFFSETTO:-0600
TZNAME:CST
DTSTART:20261101T070000
END:STANDARD
BEGIN:DAYLIGHT
TZOFFSETFROM:-0600
TZOFFSETTO:-0500
TZNAME:CDT
DTSTART:20270314T080000
END:DAYLIGHT
BEGIN:STANDARD
TZOFFSETFROM:-0500
TZOFFSETTO:-0600
TZNAME:CST
DTSTART:20271107T070000
END:STANDARD
END:VTIMEZONE
BEGIN:VEVENT
DTSTART;TZID=America/Chicago:20260402T073000
DTEND;TZID=America/Chicago:20260402T093000
DTSTAMP:20260423T061046
CREATED:20251208T170433Z
LAST-MODIFIED:20251208T170433Z
UID:9512-1775115000-1775122200@grandforks.org
SUMMARY:April 2026 Board of Directors
DESCRIPTION:The Grand Forks Region Economic Development Corporation’s board of directors meets every month on the first Thursday of the month. \n2026 Schedule: \n\nJanuary 8\nFebruary 5\nMarch 5\nApril 2\nMay 7\nJune 4\nAugust 6\nSeptember 3\nOctober 1\nNovember 5\nDecember 3
URL:https://grandforks.org/event/april-2026-board-of-directors/
LOCATION:The HIVE GF\, 375 2nd Ave N\, Grand Forks\, ND\, 58203\, United States
CATEGORIES:Board of Directors Meeting
ATTACH;FMTTYPE=image/jpeg:https://grandforks.org/wp-content/uploads/2023/02/grand-forks-herald-building-4th-street-entrance.jpg
END:VEVENT
BEGIN:VEVENT
DTSTART;VALUE=DATE:20260403
DTEND;VALUE=DATE:20260404
DTSTAMP:20260423T061046
CREATED:20251208T170433Z
LAST-MODIFIED:20251208T170433Z
UID:9544-1775174400-1775260799@grandforks.org
SUMMARY:Good Friday 2026: EDC Office Closed
DESCRIPTION:The Grand Forks Region Economic Development Corporation will be closed on specific holidays throughout the year.
URL:https://grandforks.org/event/good-friday-2026-edc-office-closed/
LOCATION:Grand Forks Region Economic Development Corporation Office\, 120 N 4th St\, Grand Forks\, ND\, 58203\, United States
CATEGORIES:Holidays & Office Changes
END:VEVENT
BEGIN:VEVENT
DTSTART;VALUE=DATE:20260427
DTEND;VALUE=DATE:20260428
DTSTAMP:20260423T061046
CREATED:20251208T202749Z
LAST-MODIFIED:20251208T202749Z
UID:9558-1777248000-1777334399@grandforks.org
SUMMARY:June 2026 PACE/FlexPACE Applications Due
DESCRIPTION:Participating in the Assisting Community Expansion (PACE) Program\, the Grand Forks Growth Fund may provide a no-interest\, deferred loan up to $269\,000 to leverage a Bank of North Dakota grant up to $500\,000 to collectively reduce the interest paid on a loan used to acquire land or equipment on for working capital. \nDon’t fit the traditional definition of the PACE program? FlexPACE is a flexible program where the Grand Forks Growth Fund may provide a loan of up to $107\,000 to leverage a Bank of North Dakota grant portion of up to $200\,000. \nTo apply for either program\, please contact EDC business development staff. Applications are reviewed and approved by the EDC Board of Directors at monthly meetings before progressing to the Grand Forks Growth Fund.
URL:https://grandforks.org/event/june-2026-pace-flexpace-applications-due/
LOCATION:Grand Forks Region Economic Development Corporation Office\, 120 N 4th St\, Grand Forks\, ND\, 58203\, United States
CATEGORIES:Funding Programs
ATTACH;FMTTYPE=image/jpeg:https://grandforks.org/wp-content/uploads/edc-mkt-grap-cal-24-pace-flexpace-apps-calendar-graphic-rgb-16-9.jpg
END:VEVENT
BEGIN:VEVENT
DTSTART;TZID=America/Chicago:20260507T073000
DTEND;TZID=America/Chicago:20260507T093000
DTSTAMP:20260423T061046
CREATED:20251208T170433Z
LAST-MODIFIED:20251208T170433Z
UID:9514-1778139000-1778146200@grandforks.org
SUMMARY:May 2026 Board of Directors
DESCRIPTION:The Grand Forks Region Economic Development Corporation’s board of directors meets every month on the first Thursday of the month. \n2026 Schedule: \n\nJanuary 8\nFebruary 5\nMarch 5\nApril 2\nMay 7\nJune 4\nAugust 6\nSeptember 3\nOctober 1\nNovember 5\nDecember 3
URL:https://grandforks.org/event/may-2026-board-of-directors/
LOCATION:The HIVE GF\, 375 2nd Ave N\, Grand Forks\, ND\, 58203\, United States
CATEGORIES:Board of Directors Meeting
ATTACH;FMTTYPE=image/jpeg:https://grandforks.org/wp-content/uploads/2023/02/grand-forks-herald-building-4th-street-entrance.jpg
END:VEVENT
BEGIN:VEVENT
DTSTART;VALUE=DATE:20260525
DTEND;VALUE=DATE:20260526
DTSTAMP:20260423T061046
CREATED:20251208T170433Z
LAST-MODIFIED:20251208T170433Z
UID:9542-1779667200-1779753599@grandforks.org
SUMMARY:Memorial Day 2026: EDC Office Closed
DESCRIPTION:The Grand Forks Region Economic Development Corporation will be closed on specific holidays throughout the year.
URL:https://grandforks.org/event/memorial-day-2026-edc-office-closed/
LOCATION:Grand Forks Region Economic Development Corporation Office\, 120 N 4th St\, Grand Forks\, ND\, 58203\, United States
CATEGORIES:Holidays & Office Changes
END:VEVENT
BEGIN:VEVENT
DTSTART;VALUE=DATE:20260525
DTEND;VALUE=DATE:20260526
DTSTAMP:20260423T061046
CREATED:20251208T202856Z
LAST-MODIFIED:20251208T202856Z
UID:9560-1779667200-1779753599@grandforks.org
SUMMARY:July 2026 PACE/FlexPACE Applications Due
DESCRIPTION:Participating in the Assisting Community Expansion (PACE) Program\, the Grand Forks Growth Fund may provide a no-interest\, deferred loan up to $269\,000 to leverage a Bank of North Dakota grant up to $500\,000 to collectively reduce the interest paid on a loan used to acquire land or equipment on for working capital. \nDon’t fit the traditional definition of the PACE program? FlexPACE is a flexible program where the Grand Forks Growth Fund may provide a loan of up to $107\,000 to leverage a Bank of North Dakota grant portion of up to $200\,000. \nTo apply for either program\, please contact EDC business development staff. Applications are reviewed and approved by the EDC Board of Directors at monthly meetings before progressing to the Grand Forks Growth Fund.
URL:https://grandforks.org/event/july-2026-pace-flexpace-applications-due/
LOCATION:Grand Forks Region Economic Development Corporation Office\, 120 N 4th St\, Grand Forks\, ND\, 58203\, United States
CATEGORIES:Funding Programs
ATTACH;FMTTYPE=image/jpeg:https://grandforks.org/wp-content/uploads/edc-mkt-grap-cal-24-pace-flexpace-apps-calendar-graphic-rgb-16-9.jpg
END:VEVENT
BEGIN:VEVENT
DTSTART;VALUE=DATE:20260601
DTEND;VALUE=DATE:20260802
DTSTAMP:20260423T061046
CREATED:20251208T170433Z
LAST-MODIFIED:20251208T170433Z
UID:9550-1780272000-1785628799@grandforks.org
SUMMARY:Intern GF Applications for Fall '26 Open
DESCRIPTION:InternGF offers up to $3\,500 to offset an intern’s salary. Employers can apply for up to two internships per year. Eligible applicants must be an early-to-mid-stage startup or a member organization of the EDC that can offer an internship not routinely found in the greater Grand Forks region. \nFall Internships | August 1 – December 31 \n\nApplications Open: June 1 – August 1\nPriority Deadline: July 1
URL:https://grandforks.org/event/intern-gf-applications-for-fall-26-open/
LOCATION:Grand Forks Region Economic Development Corporation Office\, 120 N 4th St\, Grand Forks\, ND\, 58203\, United States
CATEGORIES:Funding Programs
ATTACH;FMTTYPE=image/jpeg:https://grandforks.org/wp-content/uploads/2023/05/interngf-students-smiling-school-brick-wall.jpg
END:VEVENT
BEGIN:VEVENT
DTSTART;TZID=America/Chicago:20260604T073000
DTEND;TZID=America/Chicago:20260604T093000
DTSTAMP:20260423T061046
CREATED:20251208T170433Z
LAST-MODIFIED:20251208T170433Z
UID:9516-1780558200-1780565400@grandforks.org
SUMMARY:June 2026 Board of Directors
DESCRIPTION:The Grand Forks Region Economic Development Corporation’s board of directors meets every month on the first Thursday of the month. \n2026 Schedule: \n\nJanuary 8\nFebruary 5\nMarch 5\nApril 2\nMay 7\nJune 4\nAugust 6\nSeptember 3\nOctober 1\nNovember 5\nDecember 3
URL:https://grandforks.org/event/june-2026-board-of-directors/
LOCATION:The HIVE GF\, 375 2nd Ave N\, Grand Forks\, ND\, 58203\, United States
CATEGORIES:Board of Directors Meeting
ATTACH;FMTTYPE=image/jpeg:https://grandforks.org/wp-content/uploads/2023/02/grand-forks-herald-building-4th-street-entrance.jpg
END:VEVENT
BEGIN:VEVENT
DTSTART;VALUE=DATE:20260619
DTEND;VALUE=DATE:20260620
DTSTAMP:20260423T061046
CREATED:20251208T170853Z
LAST-MODIFIED:20251208T170853Z
UID:9540-1781827200-1781913599@grandforks.org
SUMMARY:Juneteenth 2026: EDC Office Closed
DESCRIPTION:The Grand Forks Region Economic Development Corporation will be closed on specific holidays throughout the year.
URL:https://grandforks.org/event/juneteenth-2026-edc-office-closed/
LOCATION:Grand Forks Region Economic Development Corporation Office\, 120 N 4th St\, Grand Forks\, ND\, 58203\, United States
CATEGORIES:Holidays & Office Changes
END:VEVENT
BEGIN:VEVENT
DTSTART;VALUE=DATE:20260629
DTEND;VALUE=DATE:20260630
DTSTAMP:20260423T061046
CREATED:20251208T203012Z
LAST-MODIFIED:20251208T203012Z
UID:9562-1782691200-1782777599@grandforks.org
SUMMARY:August 2026 PACE/FlexPACE Applications Due
DESCRIPTION:Participating in the Assisting Community Expansion (PACE) Program\, the Grand Forks Growth Fund may provide a no-interest\, deferred loan up to $269\,000 to leverage a Bank of North Dakota grant up to $500\,000 to collectively reduce the interest paid on a loan used to acquire land or equipment on for working capital. \nDon’t fit the traditional definition of the PACE program? FlexPACE is a flexible program where the Grand Forks Growth Fund may provide a loan of up to $107\,000 to leverage a Bank of North Dakota grant portion of up to $200\,000. \nTo apply for either program\, please contact EDC business development staff. Applications are reviewed and approved by the EDC Board of Directors at monthly meetings before progressing to the Grand Forks Growth Fund.
URL:https://grandforks.org/event/august-2026-pace-flexpace-applications-due/
LOCATION:Grand Forks Region Economic Development Corporation Office\, 120 N 4th St\, Grand Forks\, ND\, 58203\, United States
CATEGORIES:Funding Programs
ATTACH;FMTTYPE=image/jpeg:https://grandforks.org/wp-content/uploads/edc-mkt-grap-cal-24-pace-flexpace-apps-calendar-graphic-rgb-16-9.jpg
END:VEVENT
BEGIN:VEVENT
DTSTART;VALUE=DATE:20260704
DTEND;VALUE=DATE:20260705
DTSTAMP:20260423T061046
CREATED:20251208T170433Z
LAST-MODIFIED:20251208T170433Z
UID:9538-1783123200-1783209599@grandforks.org
SUMMARY:Independence Day 2026: EDC Office Closed
DESCRIPTION:The Grand Forks Region Economic Development Corporation will be closed on specific holidays throughout the year.
URL:https://grandforks.org/event/independence-day-2026-edc-office-closed/
LOCATION:Grand Forks Region Economic Development Corporation Office\, 120 N 4th St\, Grand Forks\, ND\, 58203\, United States
CATEGORIES:Holidays & Office Changes
END:VEVENT
BEGIN:VEVENT
DTSTART;TZID=America/Chicago:20260709T073000
DTEND;TZID=America/Chicago:20260709T090000
DTSTAMP:20260423T061046
CREATED:20251208T170433Z
LAST-MODIFIED:20251208T170433Z
UID:9530-1783582200-1783587600@grandforks.org
SUMMARY:July 2026 Advisory Board Meeting
DESCRIPTION:The Grand Forks Region Economic Development Corporation’s Advisory Board meets three times a year on the second Thursday of the meeting month. \n2026 Meetings \n\nFebruary 12\nJuly 9\nOctober 8
URL:https://grandforks.org/event/july-2026-advisory-board-meeting/
LOCATION:The HIVE GF\, 375 2nd Ave N\, Grand Forks\, ND\, 58203\, United States
CATEGORIES:Advisory Board Meeting
ATTACH;FMTTYPE=image/jpeg:https://grandforks.org/wp-content/uploads/2023/02/edc-outside-sign-summer-calendar-event.jpg
END:VEVENT
BEGIN:VEVENT
DTSTART;VALUE=DATE:20260727
DTEND;VALUE=DATE:20260728
DTSTAMP:20260423T061046
CREATED:20251208T203124Z
LAST-MODIFIED:20251208T203124Z
UID:9564-1785110400-1785196799@grandforks.org
SUMMARY:September 2026 PACE/FlexPACE Applications Due
DESCRIPTION:Participating in the Assisting Community Expansion (PACE) Program\, the Grand Forks Growth Fund may provide a no-interest\, deferred loan up to $269\,000 to leverage a Bank of North Dakota grant up to $500\,000 to collectively reduce the interest paid on a loan used to acquire land or equipment on for working capital. \nDon’t fit the traditional definition of the PACE program? FlexPACE is a flexible program where the Grand Forks Growth Fund may provide a loan of up to $107\,000 to leverage a Bank of North Dakota grant portion of up to $200\,000. \nTo apply for either program\, please contact EDC business development staff. Applications are reviewed and approved by the EDC Board of Directors at monthly meetings before progressing to the Grand Forks Growth Fund.
URL:https://grandforks.org/event/september-2026-pace-flexpace-applications-due/
LOCATION:Grand Forks Region Economic Development Corporation Office\, 120 N 4th St\, Grand Forks\, ND\, 58203\, United States
CATEGORIES:Funding Programs
ATTACH;FMTTYPE=image/jpeg:https://grandforks.org/wp-content/uploads/edc-mkt-grap-cal-24-pace-flexpace-apps-calendar-graphic-rgb-16-9.jpg
END:VEVENT
BEGIN:VEVENT
DTSTART;TZID=America/Chicago:20260806T073000
DTEND;TZID=America/Chicago:20260806T093000
DTSTAMP:20260423T061046
CREATED:20251208T170433Z
LAST-MODIFIED:20251208T170433Z
UID:9518-1786001400-1786008600@grandforks.org
SUMMARY:August 2026 Board of Directors
DESCRIPTION:The Grand Forks Region Economic Development Corporation’s board of directors meets every month on the first Thursday of the month. \n2026 Schedule: \n\nJanuary 8\nFebruary 5\nMarch 5\nApril 2\nMay 7\nJune 4\nAugust 6\nSeptember 3\nOctober 1\nNovember 5\nDecember 3
URL:https://grandforks.org/event/august-2026-board-of-directors-2/
LOCATION:The HIVE GF\, 375 2nd Ave N\, Grand Forks\, ND\, 58203\, United States
CATEGORIES:Board of Directors Meeting
ATTACH;FMTTYPE=image/jpeg:https://grandforks.org/wp-content/uploads/2023/02/grand-forks-herald-building-4th-street-entrance.jpg
END:VEVENT
BEGIN:VEVENT
DTSTART;VALUE=DATE:20260831
DTEND;VALUE=DATE:20260901
DTSTAMP:20260423T061046
CREATED:20251208T203231Z
LAST-MODIFIED:20251208T203231Z
UID:9566-1788134400-1788220799@grandforks.org
SUMMARY:October 2026 PACE/FlexPACE Applications Due
DESCRIPTION:Participating in the Assisting Community Expansion (PACE) Program\, the Grand Forks Growth Fund may provide a no-interest\, deferred loan up to $269\,000 to leverage a Bank of North Dakota grant up to $500\,000 to collectively reduce the interest paid on a loan used to acquire land or equipment on for working capital. \nDon’t fit the traditional definition of the PACE program? FlexPACE is a flexible program where the Grand Forks Growth Fund may provide a loan of up to $107\,000 to leverage a Bank of North Dakota grant portion of up to $200\,000. \nTo apply for either program\, please contact EDC business development staff. Applications are reviewed and approved by the EDC Board of Directors at monthly meetings before progressing to the Grand Forks Growth Fund.
URL:https://grandforks.org/event/october-2026-pace-flexpace-applications-due/
LOCATION:Grand Forks Region Economic Development Corporation Office\, 120 N 4th St\, Grand Forks\, ND\, 58203\, United States
CATEGORIES:Funding Programs
ATTACH;FMTTYPE=image/jpeg:https://grandforks.org/wp-content/uploads/edc-mkt-grap-cal-24-pace-flexpace-apps-calendar-graphic-rgb-16-9.jpg
END:VEVENT
BEGIN:VEVENT
DTSTART;TZID=America/Chicago:20260903T073000
DTEND;TZID=America/Chicago:20260903T093000
DTSTAMP:20260423T061046
CREATED:20251208T170433Z
LAST-MODIFIED:20251208T170433Z
UID:9520-1788420600-1788427800@grandforks.org
SUMMARY:September 2026 Board of Directors
DESCRIPTION:The Grand Forks Region Economic Development Corporation’s board of directors meets every month on the first Thursday of the month. \n2026 Schedule: \n\nJanuary 8\nFebruary 5\nMarch 5\nApril 2\nMay 7\nJune 4\nAugust 6\nSeptember 3\nOctober 1\nNovember 5\nDecember 3
URL:https://grandforks.org/event/september-2026-board-of-directors/
LOCATION:The HIVE GF\, 375 2nd Ave N\, Grand Forks\, ND\, 58203\, United States
CATEGORIES:Board of Directors Meeting
ATTACH;FMTTYPE=image/jpeg:https://grandforks.org/wp-content/uploads/2023/02/grand-forks-herald-building-4th-street-entrance.jpg
END:VEVENT
BEGIN:VEVENT
DTSTART;VALUE=DATE:20260907
DTEND;VALUE=DATE:20260908
DTSTAMP:20260423T061046
CREATED:20251208T170433Z
LAST-MODIFIED:20251208T170433Z
UID:9536-1788739200-1788825599@grandforks.org
SUMMARY:Labor Day 2026: EDC Office Closed
DESCRIPTION:The Grand Forks Region Economic Development Corporation will be closed on specific holidays throughout the year.
URL:https://grandforks.org/event/labor-day-2026-edc-office-closed/
LOCATION:Grand Forks Region Economic Development Corporation Office\, 120 N 4th St\, Grand Forks\, ND\, 58203\, United States
CATEGORIES:Holidays & Office Changes
ATTACH;FMTTYPE=image/jpeg:https://grandforks.org/wp-content/uploads/2023/02/edc-outside-sign-summer-calendar-event.jpg
END:VEVENT
BEGIN:VEVENT
DTSTART;VALUE=DATE:20260928
DTEND;VALUE=DATE:20260929
DTSTAMP:20260423T061046
CREATED:20251208T203334Z
LAST-MODIFIED:20251208T203334Z
UID:9568-1790553600-1790639999@grandforks.org
SUMMARY:November 2026 PACE/FlexPACE Applications Due
DESCRIPTION:Participating in the Assisting Community Expansion (PACE) Program\, the Grand Forks Growth Fund may provide a no-interest\, deferred loan up to $269\,000 to leverage a Bank of North Dakota grant up to $500\,000 to collectively reduce the interest paid on a loan used to acquire land or equipment on for working capital. \nDon’t fit the traditional definition of the PACE program? FlexPACE is a flexible program where the Grand Forks Growth Fund may provide a loan of up to $107\,000 to leverage a Bank of North Dakota grant portion of up to $200\,000. \nTo apply for either program\, please contact EDC business development staff. Applications are reviewed and approved by the EDC Board of Directors at monthly meetings before progressing to the Grand Forks Growth Fund.
URL:https://grandforks.org/event/november-2026-pace-flexpace-applications-due/
LOCATION:Grand Forks Region Economic Development Corporation Office\, 120 N 4th St\, Grand Forks\, ND\, 58203\, United States
CATEGORIES:Funding Programs
ATTACH;FMTTYPE=image/jpeg:https://grandforks.org/wp-content/uploads/edc-mkt-grap-cal-24-pace-flexpace-apps-calendar-graphic-rgb-16-9.jpg
END:VEVENT
BEGIN:VEVENT
DTSTART;TZID=America/Chicago:20261001T073000
DTEND;TZID=America/Chicago:20261001T093000
DTSTAMP:20260423T061046
CREATED:20251208T170433Z
LAST-MODIFIED:20251208T170433Z
UID:9522-1790839800-1790847000@grandforks.org
SUMMARY:October 2026 Board of Directors
DESCRIPTION:The Grand Forks Region Economic Development Corporation’s board of directors meets every month on the first Thursday of the month. \n2026 Schedule: \n\nJanuary 8\nFebruary 5\nMarch 5\nApril 2\nMay 7\nJune 4\nAugust 6\nSeptember 3\nOctober 1\nNovember 5\nDecember 3
URL:https://grandforks.org/event/october-2026-board-of-directors/
LOCATION:The HIVE GF\, 375 2nd Ave N\, Grand Forks\, ND\, 58203\, United States
CATEGORIES:Board of Directors Meeting
ATTACH;FMTTYPE=image/jpeg:https://grandforks.org/wp-content/uploads/2023/02/grand-forks-herald-building-4th-street-entrance.jpg
END:VEVENT
BEGIN:VEVENT
DTSTART;TZID=America/Chicago:20261008T073000
DTEND;TZID=America/Chicago:20261008T090000
DTSTAMP:20260423T061046
CREATED:20251208T170433Z
LAST-MODIFIED:20251208T170433Z
UID:9532-1791444600-1791450000@grandforks.org
SUMMARY:October 2026 Advisory Board Meeting
DESCRIPTION:The Grand Forks Region Economic Development Corporation’s Advisory Board meets three times a year on the second Thursday of the meeting month. \n2026 Meetings \n\nFebruary 12\nJuly 9\nOctober 8
URL:https://grandforks.org/event/october-2026-advisory-board-meeting/
LOCATION:The HIVE GF\, 375 2nd Ave N\, Grand Forks\, ND\, 58203\, United States
CATEGORIES:Advisory Board Meeting
ATTACH;FMTTYPE=image/jpeg:https://grandforks.org/wp-content/uploads/2023/02/edc-outside-sign-summer-calendar-event.jpg
END:VEVENT
BEGIN:VEVENT
DTSTART;VALUE=DATE:20261026
DTEND;VALUE=DATE:20261027
DTSTAMP:20260423T061046
CREATED:20251208T203432Z
LAST-MODIFIED:20251208T203432Z
UID:9570-1792972800-1793059199@grandforks.org
SUMMARY:December 2026 PACE/FlexPACE Applications Due
DESCRIPTION:Participating in the Assisting Community Expansion (PACE) Program\, the Grand Forks Growth Fund may provide a no-interest\, deferred loan up to $269\,000 to leverage a Bank of North Dakota grant up to $500\,000 to collectively reduce the interest paid on a loan used to acquire land or equipment on for working capital. \nDon’t fit the traditional definition of the PACE program? FlexPACE is a flexible program where the Grand Forks Growth Fund may provide a loan of up to $107\,000 to leverage a Bank of North Dakota grant portion of up to $200\,000. \nTo apply for either program\, please contact EDC business development staff. Applications are reviewed and approved by the EDC Board of Directors at monthly meetings before progressing to the Grand Forks Growth Fund.
URL:https://grandforks.org/event/december-2026-pace-flexpace-applications-due/
LOCATION:Grand Forks Region Economic Development Corporation Office\, 120 N 4th St\, Grand Forks\, ND\, 58203\, United States
CATEGORIES:Funding Programs
ATTACH;FMTTYPE=image/jpeg:https://grandforks.org/wp-content/uploads/edc-mkt-grap-cal-24-pace-flexpace-apps-calendar-graphic-rgb-16-9.jpg
END:VEVENT
BEGIN:VEVENT
DTSTART;TZID=America/Chicago:20261105T073000
DTEND;TZID=America/Chicago:20261105T093000
DTSTAMP:20260423T061046
CREATED:20251208T170433Z
LAST-MODIFIED:20251208T170433Z
UID:9524-1793863800-1793871000@grandforks.org
SUMMARY:November 2026 Board of Directors
DESCRIPTION:The Grand Forks Region Economic Development Corporation’s board of directors meets every month on the first Thursday of the month. \n2026 Schedule: \n\nJanuary 8\nFebruary 5\nMarch 5\nApril 2\nMay 7\nJune 4\nAugust 6\nSeptember 3\nOctober 1\nNovember 5\nDecember 3
URL:https://grandforks.org/event/november-2026-board-of-directors/
LOCATION:The HIVE GF\, 375 2nd Ave N\, Grand Forks\, ND\, 58203\, United States
CATEGORIES:Board of Directors Meeting
ATTACH;FMTTYPE=image/jpeg:https://grandforks.org/wp-content/uploads/2023/02/grand-forks-herald-building-4th-street-entrance.jpg
END:VEVENT
BEGIN:VEVENT
DTSTART;VALUE=DATE:20261126
DTEND;VALUE=DATE:20261127
DTSTAMP:20260423T061046
CREATED:20251208T170433Z
LAST-MODIFIED:20251208T170433Z
UID:9534-1795651200-1795737599@grandforks.org
SUMMARY:Thanksgiving 2026: EDC Office Closed
DESCRIPTION:The Grand Forks Region Economic Development Corporation will be closed on specific holidays throughout the year.
URL:https://grandforks.org/event/thanksgiving-2026-edc-office-closed/
LOCATION:Grand Forks Region Economic Development Corporation Office\, 120 N 4th St\, Grand Forks\, ND\, 58203\, United States
CATEGORIES:Holidays & Office Changes
ATTACH;FMTTYPE=image/jpeg:https://grandforks.org/wp-content/uploads/2023/02/edc-outside-sign-summer-calendar-event.jpg
END:VEVENT
BEGIN:VEVENT
DTSTART;VALUE=DATE:20261130
DTEND;VALUE=DATE:20261201
DTSTAMP:20260423T061046
CREATED:20251208T203537Z
LAST-MODIFIED:20251208T203537Z
UID:9572-1795996800-1796083199@grandforks.org
SUMMARY:January 2027 PACE/FlexPACE Applications Due
DESCRIPTION:Participating in the Assisting Community Expansion (PACE) Program\, the Grand Forks Growth Fund may provide a no-interest\, deferred loan up to $269\,000 to leverage a Bank of North Dakota grant up to $500\,000 to collectively reduce the interest paid on a loan used to acquire land or equipment on for working capital. \nDon’t fit the traditional definition of the PACE program? FlexPACE is a flexible program where the Grand Forks Growth Fund may provide a loan of up to $107\,000 to leverage a Bank of North Dakota grant portion of up to $200\,000. \nTo apply for either program\, please contact EDC business development staff. Applications are reviewed and approved by the EDC Board of Directors at monthly meetings before progressing to the Grand Forks Growth Fund.
URL:https://grandforks.org/event/january-2027-pace-flexpace-applications-due/
LOCATION:Grand Forks Region Economic Development Corporation Office\, 120 N 4th St\, Grand Forks\, ND\, 58203\, United States
CATEGORIES:Funding Programs
ATTACH;FMTTYPE=image/jpeg:https://grandforks.org/wp-content/uploads/edc-mkt-grap-cal-24-pace-flexpace-apps-calendar-graphic-rgb-16-9.jpg
END:VEVENT
BEGIN:VEVENT
DTSTART;TZID=America/Chicago:20261203T073000
DTEND;TZID=America/Chicago:20261203T093000
DTSTAMP:20260423T061046
CREATED:20251208T170433Z
LAST-MODIFIED:20251208T170433Z
UID:9526-1796283000-1796290200@grandforks.org
SUMMARY:December 2026 Board of Directors
DESCRIPTION:The Grand Forks Region Economic Development Corporation’s board of directors meets every month on the first Thursday of the month. \n2026 Schedule: \n\nJanuary 8\nFebruary 5\nMarch 5\nApril 2\nMay 7\nJune 4\nAugust 6\nSeptember 3\nOctober 1\nNovember 5\nDecember 3
URL:https://grandforks.org/event/december-2026-board-of-directors/
LOCATION:The HIVE GF\, 375 2nd Ave N\, Grand Forks\, ND\, 58203\, United States
CATEGORIES:Board of Directors Meeting
ATTACH;FMTTYPE=image/jpeg:https://grandforks.org/wp-content/uploads/2023/02/grand-forks-herald-building-4th-street-entrance.jpg
END:VEVENT
BEGIN:VEVENT
DTSTART;VALUE=DATE:20261225
DTEND;VALUE=DATE:20261226
DTSTAMP:20260423T061046
CREATED:20251208T170432Z
LAST-MODIFIED:20251208T170432Z
UID:9487-1798156800-1798243199@grandforks.org
SUMMARY:Christmas 2026: EDC Office Closed
DESCRIPTION:The Grand Forks Region Economic Development Corporation will be closed on specific holidays throughout the year.
URL:https://grandforks.org/event/christmas-2026-edc-office-closed/
LOCATION:Grand Forks Region Economic Development Corporation Office\, 120 N 4th St\, Grand Forks\, ND\, 58203\, United States
CATEGORIES:Holidays & Office Changes
ATTACH;FMTTYPE=image/jpeg:https://grandforks.org/wp-content/uploads/2023/02/edc-outside-sign-summer-calendar-event.jpg
END:VEVENT
BEGIN:VEVENT
DTSTART;VALUE=DATE:20261228
DTEND;VALUE=DATE:20261229
DTSTAMP:20260423T061046
CREATED:20251208T203655Z
LAST-MODIFIED:20251208T203655Z
UID:9574-1798416000-1798502399@grandforks.org
SUMMARY:February 2027 PACE/FlexPACE Applications Due
DESCRIPTION:Participating in the Assisting Community Expansion (PACE) Program\, the Grand Forks Growth Fund may provide a no-interest\, deferred loan up to $269\,000 to leverage a Bank of North Dakota grant up to $500\,000 to collectively reduce the interest paid on a loan used to acquire land or equipment on for working capital. \nDon’t fit the traditional definition of the PACE program? FlexPACE is a flexible program where the Grand Forks Growth Fund may provide a loan of up to $107\,000 to leverage a Bank of North Dakota grant portion of up to $200\,000. \nTo apply for either program\, please contact EDC business development staff. Applications are reviewed and approved by the EDC Board of Directors at monthly meetings before progressing to the Grand Forks Growth Fund.
URL:https://grandforks.org/event/february-2027-pace-flexpace-applications-due/
LOCATION:Grand Forks Region Economic Development Corporation Office\, 120 N 4th St\, Grand Forks\, ND\, 58203\, United States
CATEGORIES:Funding Programs
ATTACH;FMTTYPE=image/jpeg:https://grandforks.org/wp-content/uploads/edc-mkt-grap-cal-24-pace-flexpace-apps-calendar-graphic-rgb-16-9.jpg
END:VEVENT
END:VCALENDAR