BEGIN:VCALENDAR
VERSION:2.0
PRODID:-//Grand Forks EDC | Grand Forks, ND - ECPv6.15.20//NONSGML v1.0//EN
CALSCALE:GREGORIAN
METHOD:PUBLISH
X-WR-CALNAME:Grand Forks EDC | Grand Forks, ND
X-ORIGINAL-URL:https://grandforks.org
X-WR-CALDESC:Events for Grand Forks EDC | Grand Forks, ND
REFRESH-INTERVAL;VALUE=DURATION:PT1H
X-Robots-Tag:noindex
X-PUBLISHED-TTL:PT1H
BEGIN:VTIMEZONE
TZID:America/Chicago
BEGIN:DAYLIGHT
TZOFFSETFROM:-0600
TZOFFSETTO:-0500
TZNAME:CDT
DTSTART:20220313T080000
END:DAYLIGHT
BEGIN:STANDARD
TZOFFSETFROM:-0500
TZOFFSETTO:-0600
TZNAME:CST
DTSTART:20221106T070000
END:STANDARD
BEGIN:DAYLIGHT
TZOFFSETFROM:-0600
TZOFFSETTO:-0500
TZNAME:CDT
DTSTART:20230312T080000
END:DAYLIGHT
BEGIN:STANDARD
TZOFFSETFROM:-0500
TZOFFSETTO:-0600
TZNAME:CST
DTSTART:20231105T070000
END:STANDARD
BEGIN:DAYLIGHT
TZOFFSETFROM:-0600
TZOFFSETTO:-0500
TZNAME:CDT
DTSTART:20240310T080000
END:DAYLIGHT
BEGIN:STANDARD
TZOFFSETFROM:-0500
TZOFFSETTO:-0600
TZNAME:CST
DTSTART:20241103T070000
END:STANDARD
BEGIN:DAYLIGHT
TZOFFSETFROM:-0600
TZOFFSETTO:-0500
TZNAME:CDT
DTSTART:20250309T080000
END:DAYLIGHT
BEGIN:STANDARD
TZOFFSETFROM:-0500
TZOFFSETTO:-0600
TZNAME:CST
DTSTART:20251102T070000
END:STANDARD
BEGIN:DAYLIGHT
TZOFFSETFROM:-0600
TZOFFSETTO:-0500
TZNAME:CDT
DTSTART:20260308T080000
END:DAYLIGHT
BEGIN:STANDARD
TZOFFSETFROM:-0500
TZOFFSETTO:-0600
TZNAME:CST
DTSTART:20261101T070000
END:STANDARD
BEGIN:DAYLIGHT
TZOFFSETFROM:-0600
TZOFFSETTO:-0500
TZNAME:CDT
DTSTART:20270314T080000
END:DAYLIGHT
BEGIN:STANDARD
TZOFFSETFROM:-0500
TZOFFSETTO:-0600
TZNAME:CST
DTSTART:20271107T070000
END:STANDARD
END:VTIMEZONE
BEGIN:VEVENT
DTSTART;VALUE=DATE:20260403
DTEND;VALUE=DATE:20260404
DTSTAMP:20260423T060137
CREATED:20251208T170433Z
LAST-MODIFIED:20251208T170433Z
UID:9544-1775174400-1775260799@grandforks.org
SUMMARY:Good Friday 2026: EDC Office Closed
DESCRIPTION:The Grand Forks Region Economic Development Corporation will be closed on specific holidays throughout the year.
URL:https://grandforks.org/event/good-friday-2026-edc-office-closed/
LOCATION:Grand Forks Region Economic Development Corporation Office\, 120 N 4th St\, Grand Forks\, ND\, 58203\, United States
CATEGORIES:Holidays & Office Changes
END:VEVENT
BEGIN:VEVENT
DTSTART;VALUE=DATE:20260216
DTEND;VALUE=DATE:20260217
DTSTAMP:20260423T060137
CREATED:20251208T170433Z
LAST-MODIFIED:20251208T170433Z
UID:9546-1771200000-1771286399@grandforks.org
SUMMARY:Presidents Day 2026: EDC Office Closed
DESCRIPTION:The Grand Forks Region Economic Development Corporation will be closed on specific holidays throughout the year.
URL:https://grandforks.org/event/presidents-day-2026-edc-office-closed/
LOCATION:Grand Forks Region Economic Development Corporation Office\, 120 N 4th St\, Grand Forks\, ND\, 58203\, United States
CATEGORIES:Holidays & Office Changes
END:VEVENT
BEGIN:VEVENT
DTSTART;VALUE=DATE:20260101
DTEND;VALUE=DATE:20260102
DTSTAMP:20260423T060137
CREATED:20251208T170853Z
LAST-MODIFIED:20251208T170853Z
UID:9485-1767225600-1767311999@grandforks.org
SUMMARY:New Year's 2026: EDC Office Closed
DESCRIPTION:The Grand Forks Region Economic Development Corporation will be closed on specific holidays throughout the year.
URL:https://grandforks.org/event/new-years-2026-edc-office-closed/
LOCATION:Grand Forks Region Economic Development Corporation Office\, 120 N 4th St\, Grand Forks\, ND\, 58203\, United States
CATEGORIES:Holidays & Office Changes
END:VEVENT
BEGIN:VEVENT
DTSTART;VALUE=DATE:20251225
DTEND;VALUE=DATE:20251226
DTSTAMP:20260423T060137
CREATED:20241219T162419Z
LAST-MODIFIED:20241219T162419Z
UID:8428-1766620800-1766707199@grandforks.org
SUMMARY:Christmas 2025: EDC Office Closed
DESCRIPTION:The Grand Forks Region Economic Development Corporation will be closed on specific holidays throughout the year.
URL:https://grandforks.org/event/christmas-2025-edc-office-closed/
LOCATION:Grand Forks Region Economic Development Corporation Office\, 120 N 4th St\, Grand Forks\, ND\, 58203\, United States
CATEGORIES:Holidays & Office Changes
ATTACH;FMTTYPE=image/jpeg:https://grandforks.org/wp-content/uploads/2023/02/edc-outside-sign-summer-calendar-event.jpg
END:VEVENT
BEGIN:VEVENT
DTSTART;VALUE=DATE:20251127
DTEND;VALUE=DATE:20251128
DTSTAMP:20260423T060137
CREATED:20241219T164719Z
LAST-MODIFIED:20241219T164719Z
UID:8430-1764201600-1764287999@grandforks.org
SUMMARY:Thanksgiving 2025: EDC Office Closed
DESCRIPTION:The Grand Forks Region Economic Development Corporation will be closed on specific holidays throughout the year.
URL:https://grandforks.org/event/thanksgiving-2025-edc-office-closed/
LOCATION:Grand Forks Region Economic Development Corporation Office\, 120 N 4th St\, Grand Forks\, ND\, 58203\, United States
CATEGORIES:Holidays & Office Changes
ATTACH;FMTTYPE=image/jpeg:https://grandforks.org/wp-content/uploads/2023/02/edc-outside-sign-summer-calendar-event.jpg
END:VEVENT
BEGIN:VEVENT
DTSTART;VALUE=DATE:20250901
DTEND;VALUE=DATE:20250902
DTSTAMP:20260423T060137
CREATED:20241219T164631Z
LAST-MODIFIED:20241219T164631Z
UID:8438-1756684800-1756771199@grandforks.org
SUMMARY:Labor Day 2025: EDC Office Closed
DESCRIPTION:The Grand Forks Region Economic Development Corporation will be closed on specific holidays throughout the year.
URL:https://grandforks.org/event/labor-day-2025-edc-office-closed/
LOCATION:Grand Forks Region Economic Development Corporation Office\, 120 N 4th St\, Grand Forks\, ND\, 58203\, United States
CATEGORIES:Holidays & Office Changes
ATTACH;FMTTYPE=image/jpeg:https://grandforks.org/wp-content/uploads/2023/02/edc-outside-sign-summer-calendar-event.jpg
END:VEVENT
BEGIN:VEVENT
DTSTART;VALUE=DATE:20250704
DTEND;VALUE=DATE:20250705
DTSTAMP:20260423T060137
CREATED:20241219T164323Z
LAST-MODIFIED:20241219T164323Z
UID:8443-1751587200-1751673599@grandforks.org
SUMMARY:Independence Day 2025: EDC Office Closed
DESCRIPTION:The Grand Forks Region Economic Development Corporation will be closed on specific holidays throughout the year.
URL:https://grandforks.org/event/independence-day-2025-edc-office-closed/
LOCATION:Grand Forks Region Economic Development Corporation Office\, 120 N 4th St\, Grand Forks\, ND\, 58203\, United States
CATEGORIES:Holidays & Office Changes
END:VEVENT
BEGIN:VEVENT
DTSTART;VALUE=DATE:20250619
DTEND;VALUE=DATE:20250620
DTSTAMP:20260423T060137
CREATED:20241219T164248Z
LAST-MODIFIED:20241219T164248Z
UID:8446-1750291200-1750377599@grandforks.org
SUMMARY:Juneteenth 2025: EDC Office Closed
DESCRIPTION:The Grand Forks Region Economic Development Corporation will be closed on specific holidays throughout the year.
URL:https://grandforks.org/event/juneteenth-2025-edc-office-closed/
LOCATION:Grand Forks Region Economic Development Corporation Office\, 120 N 4th St\, Grand Forks\, ND\, 58203\, United States
CATEGORIES:Holidays & Office Changes
END:VEVENT
BEGIN:VEVENT
DTSTART;VALUE=DATE:20250526
DTEND;VALUE=DATE:20250527
DTSTAMP:20260423T060137
CREATED:20241219T164213Z
LAST-MODIFIED:20241219T164213Z
UID:8450-1748217600-1748303999@grandforks.org
SUMMARY:Memorial Day 2025: EDC Office Closed
DESCRIPTION:The Grand Forks Region Economic Development Corporation will be closed on specific holidays throughout the year.
URL:https://grandforks.org/event/memorial-day-2025-edc-office-closed/
LOCATION:Grand Forks Region Economic Development Corporation Office\, 120 N 4th St\, Grand Forks\, ND\, 58203\, United States
CATEGORIES:Holidays & Office Changes
END:VEVENT
BEGIN:VEVENT
DTSTART;VALUE=DATE:20250418
DTEND;VALUE=DATE:20250419
DTSTAMP:20260423T060137
CREATED:20241219T164130Z
LAST-MODIFIED:20241219T164139Z
UID:8454-1744934400-1745020799@grandforks.org
SUMMARY:Good Friday 2025: EDC Office Closed
DESCRIPTION:The Grand Forks Region Economic Development Corporation will be closed on specific holidays throughout the year.
URL:https://grandforks.org/event/good-friday-2025-edc-office-closed/
LOCATION:Grand Forks Region Economic Development Corporation Office\, 120 N 4th St\, Grand Forks\, ND\, 58203\, United States
CATEGORIES:Holidays & Office Changes
END:VEVENT
BEGIN:VEVENT
DTSTART;VALUE=DATE:20250217
DTEND;VALUE=DATE:20250218
DTSTAMP:20260423T060137
CREATED:20241219T164043Z
LAST-MODIFIED:20241219T164043Z
UID:8457-1739750400-1739836799@grandforks.org
SUMMARY:Presidents Day 2025: EDC Office Closed
DESCRIPTION:The Grand Forks Region Economic Development Corporation will be closed on specific holidays throughout the year.
URL:https://grandforks.org/event/presidents-day-2025-edc-office-closed/
LOCATION:Grand Forks Region Economic Development Corporation Office\, 120 N 4th St\, Grand Forks\, ND\, 58203\, United States
CATEGORIES:Holidays & Office Changes
END:VEVENT
BEGIN:VEVENT
DTSTART;VALUE=DATE:20250101
DTEND;VALUE=DATE:20250102
DTSTAMP:20260423T060137
CREATED:20241219T163436Z
LAST-MODIFIED:20241219T163436Z
UID:8463-1735689600-1735775999@grandforks.org
SUMMARY:New Year's 2025: EDC Office Closed
DESCRIPTION:The Grand Forks Region Economic Development Corporation will be closed on specific holidays throughout the year.
URL:https://grandforks.org/event/new-years-2025-edc-office-closed/
LOCATION:Grand Forks Region Economic Development Corporation Office\, 120 N 4th St\, Grand Forks\, ND\, 58203\, United States
CATEGORIES:Holidays & Office Changes
END:VEVENT
BEGIN:VEVENT
DTSTART;VALUE=DATE:20241225
DTEND;VALUE=DATE:20241226
DTSTAMP:20260423T060137
CREATED:20231211T175431Z
LAST-MODIFIED:20231212T164202Z
UID:7165-1735084800-1735171199@grandforks.org
SUMMARY:Christmas 2024: EDC Office Closed
DESCRIPTION:The Grand Forks Region Economic Development Corporation will be closed on specific holidays throughout the year.
URL:https://grandforks.org/event/christmas-24-edc-office-closed/
LOCATION:Grand Forks Region Economic Development Corporation Office\, 120 N 4th St\, Grand Forks\, ND\, 58203\, United States
CATEGORIES:Holidays & Office Changes
ATTACH;FMTTYPE=image/jpeg:https://grandforks.org/wp-content/uploads/2023/02/edc-outside-sign-summer-calendar-event.jpg
END:VEVENT
BEGIN:VEVENT
DTSTART;VALUE=DATE:20241128
DTEND;VALUE=DATE:20241129
DTSTAMP:20260423T060137
CREATED:20231211T174818Z
LAST-MODIFIED:20231212T164004Z
UID:7160-1732752000-1732838399@grandforks.org
SUMMARY:Thanksgiving 2024: EDC Office Closed
DESCRIPTION:The Grand Forks Region Economic Development Corporation will be closed on specific holidays throughout the year.
URL:https://grandforks.org/event/thanksgiving-24-edc-office-closed/
LOCATION:Grand Forks Region Economic Development Corporation Office\, 120 N 4th St\, Grand Forks\, ND\, 58203\, United States
CATEGORIES:Holidays & Office Changes
ATTACH;FMTTYPE=image/jpeg:https://grandforks.org/wp-content/uploads/2023/02/edc-outside-sign-summer-calendar-event.jpg
END:VEVENT
BEGIN:VEVENT
DTSTART;VALUE=DATE:20240902
DTEND;VALUE=DATE:20240903
DTSTAMP:20260423T060137
CREATED:20231211T175048Z
LAST-MODIFIED:20231211T175048Z
UID:7162-1725235200-1725321599@grandforks.org
SUMMARY:Labor Day 2024: EDC Office Closed
DESCRIPTION:The Grand Forks Region Economic Development Corporation will be closed on specific holidays throughout the year.
URL:https://grandforks.org/event/labor-day-24-edc-office-closed/
LOCATION:Grand Forks Region Economic Development Corporation Office\, 120 N 4th St\, Grand Forks\, ND\, 58203\, United States
CATEGORIES:Holidays & Office Changes
END:VEVENT
BEGIN:VEVENT
DTSTART;VALUE=DATE:20240704
DTEND;VALUE=DATE:20240705
DTSTAMP:20260423T060137
CREATED:20231211T180321Z
LAST-MODIFIED:20231211T180321Z
UID:7168-1720051200-1720137599@grandforks.org
SUMMARY:Independence Day 2024: EDC Office Closed
DESCRIPTION:The Grand Forks Region Economic Development Corporation will be closed on specific holidays throughout the year.
URL:https://grandforks.org/event/independence-day-24-edc-office-closed/
LOCATION:Grand Forks Region Economic Development Corporation Office\, 120 N 4th St\, Grand Forks\, ND\, 58203\, United States
CATEGORIES:Holidays & Office Changes
END:VEVENT
BEGIN:VEVENT
DTSTART;VALUE=DATE:20240619
DTEND;VALUE=DATE:20240620
DTSTAMP:20260423T060137
CREATED:20231211T180205Z
LAST-MODIFIED:20231211T180205Z
UID:7169-1718755200-1718841599@grandforks.org
SUMMARY:Juneteenth 2024: EDC Office Closed
DESCRIPTION:The Grand Forks Region Economic Development Corporation will be closed on specific holidays throughout the year.
URL:https://grandforks.org/event/juneteenth-24-edc-office-closed/
LOCATION:Grand Forks Region Economic Development Corporation Office\, 120 N 4th St\, Grand Forks\, ND\, 58203\, United States
CATEGORIES:Holidays & Office Changes
END:VEVENT
BEGIN:VEVENT
DTSTART;VALUE=DATE:20240527
DTEND;VALUE=DATE:20240528
DTSTAMP:20260423T060137
CREATED:20231211T180558Z
LAST-MODIFIED:20231211T180558Z
UID:7170-1716768000-1716854399@grandforks.org
SUMMARY:Memorial Day 2024: EDC Office Closed
DESCRIPTION:The Grand Forks Region Economic Development Corporation will be closed on specific holidays throughout the year.
URL:https://grandforks.org/event/memorial-day-24-edc-office-closed/
LOCATION:Grand Forks Region Economic Development Corporation Office\, 120 N 4th St\, Grand Forks\, ND\, 58203\, United States
CATEGORIES:Holidays & Office Changes
END:VEVENT
BEGIN:VEVENT
DTSTART;VALUE=DATE:20240329
DTEND;VALUE=DATE:20240330
DTSTAMP:20260423T060137
CREATED:20231211T180738Z
LAST-MODIFIED:20231211T180738Z
UID:7171-1711670400-1711756799@grandforks.org
SUMMARY:Good Friday 2024: EDC Office Closed
DESCRIPTION:The Grand Forks Region Economic Development Corporation will be closed on specific holidays throughout the year.
URL:https://grandforks.org/event/good-friday-24-edc-office-closed/
LOCATION:Grand Forks Region Economic Development Corporation Office\, 120 N 4th St\, Grand Forks\, ND\, 58203\, United States
CATEGORIES:Holidays & Office Changes
END:VEVENT
BEGIN:VEVENT
DTSTART;VALUE=DATE:20240219
DTEND;VALUE=DATE:20240220
DTSTAMP:20260423T060137
CREATED:20231211T181909Z
LAST-MODIFIED:20231211T181909Z
UID:7181-1708300800-1708387199@grandforks.org
SUMMARY:Presidents Day 2024: EDC Office Closed
DESCRIPTION:The Grand Forks Region Economic Development Corporation will be closed on specific holidays throughout the year.
URL:https://grandforks.org/event/presidents-day-2024/
LOCATION:Grand Forks Region Economic Development Corporation Office\, 120 N 4th St\, Grand Forks\, ND\, 58203\, United States
CATEGORIES:Holidays & Office Changes
END:VEVENT
BEGIN:VEVENT
DTSTART;VALUE=DATE:20240101
DTEND;VALUE=DATE:20240102
DTSTAMP:20260423T060137
CREATED:20231211T181719Z
LAST-MODIFIED:20231211T181719Z
UID:7180-1704067200-1704153599@grandforks.org
SUMMARY:New Year's 2024: EDC Office Closed
DESCRIPTION:The Grand Forks Region Economic Development Corporation will be closed on specific holidays throughout the year.
URL:https://grandforks.org/event/new-years-2024-edc-office-closed/
LOCATION:Grand Forks Region Economic Development Corporation Office\, 120 N 4th St\, Grand Forks\, ND\, 58203\, United States
CATEGORIES:Holidays & Office Changes
END:VEVENT
BEGIN:VEVENT
DTSTART;VALUE=DATE:20231225
DTEND;VALUE=DATE:20231226
DTSTAMP:20260423T060137
CREATED:20230228T170504Z
LAST-MODIFIED:20231212T163927Z
UID:6158-1703462400-1703548799@grandforks.org
SUMMARY:Christmas: EDC Office Closed
DESCRIPTION:The Grand Forks Region Economic Development Corporation will be closed on specific holidays throughout the year.
URL:https://grandforks.org/event/christmas-edc-office-closed/
LOCATION:Grand Forks Region Economic Development Corporation Office\, 120 N 4th St\, Grand Forks\, ND\, 58203\, United States
CATEGORIES:Holidays & Office Changes
ATTACH;FMTTYPE=image/jpeg:https://grandforks.org/wp-content/uploads/2023/02/edc-outside-sign-summer-calendar-event.jpg
END:VEVENT
BEGIN:VEVENT
DTSTART;VALUE=DATE:20231123
DTEND;VALUE=DATE:20231124
DTSTAMP:20260423T060137
CREATED:20230228T170422Z
LAST-MODIFIED:20230309T143907Z
UID:6156-1700697600-1700783999@grandforks.org
SUMMARY:Thanksgiving: EDC Office Closed
DESCRIPTION:The Grand Forks Region Economic Development Corporation will be closed on specific holidays throughout the year.
URL:https://grandforks.org/event/thanksgiving-edc-office-closed/
LOCATION:Grand Forks Region Economic Development Corporation Office\, 120 N 4th St\, Grand Forks\, ND\, 58203\, United States
CATEGORIES:Holidays & Office Changes
END:VEVENT
BEGIN:VEVENT
DTSTART;VALUE=DATE:20230904
DTEND;VALUE=DATE:20230905
DTSTAMP:20260423T060137
CREATED:20230228T170309Z
LAST-MODIFIED:20230309T143914Z
UID:6154-1693785600-1693871999@grandforks.org
SUMMARY:Labor Day: EDC Office Closed
DESCRIPTION:The Grand Forks Region Economic Development Corporation will be closed on specific holidays throughout the year.
URL:https://grandforks.org/event/labor-day-edc-office-closed/
LOCATION:Grand Forks Region Economic Development Corporation Office\, 120 N 4th St\, Grand Forks\, ND\, 58203\, United States
CATEGORIES:Holidays & Office Changes
END:VEVENT
BEGIN:VEVENT
DTSTART;VALUE=DATE:20230704
DTEND;VALUE=DATE:20230705
DTSTAMP:20260423T060137
CREATED:20230228T170130Z
LAST-MODIFIED:20230309T143923Z
UID:6150-1688428800-1688515199@grandforks.org
SUMMARY:Independence Day: EDC Office Closed
DESCRIPTION:The Grand Forks Region Economic Development Corporation will be closed on specific holidays throughout the year.
URL:https://grandforks.org/event/independence-day-edc-office-closed/
LOCATION:Grand Forks Region Economic Development Corporation Office\, 120 N 4th St\, Grand Forks\, ND\, 58203\, United States
CATEGORIES:Holidays & Office Changes
END:VEVENT
BEGIN:VEVENT
DTSTART;VALUE=DATE:20230619
DTEND;VALUE=DATE:20230620
DTSTAMP:20260423T060137
CREATED:20230228T170229Z
LAST-MODIFIED:20230309T143930Z
UID:6152-1687132800-1687219199@grandforks.org
SUMMARY:Juneteenth: EDC Office Closed
DESCRIPTION:The Grand Forks Region Economic Development Corporation will be closed on specific holidays throughout the year.
URL:https://grandforks.org/event/juneteenth-edc-office-closed/
LOCATION:Grand Forks Region Economic Development Corporation Office\, 120 N 4th St\, Grand Forks\, ND\, 58203\, United States
CATEGORIES:Holidays & Office Changes
END:VEVENT
BEGIN:VEVENT
DTSTART;VALUE=DATE:20230529
DTEND;VALUE=DATE:20230530
DTSTAMP:20260423T060137
CREATED:20230228T170037Z
LAST-MODIFIED:20230309T143939Z
UID:6148-1685318400-1685404799@grandforks.org
SUMMARY:Memorial Day: EDC Office Closed
DESCRIPTION:The Grand Forks Region Economic Development Corporation will be closed on specific holidays throughout the year.
URL:https://grandforks.org/event/memorial-day-edc-office-closed/
LOCATION:Grand Forks Region Economic Development Corporation Office\, 120 N 4th St\, Grand Forks\, ND\, 58203\, United States
CATEGORIES:Holidays & Office Changes
END:VEVENT
BEGIN:VEVENT
DTSTART;VALUE=DATE:20230407
DTEND;VALUE=DATE:20230408
DTSTAMP:20260423T060137
CREATED:20230228T165939Z
LAST-MODIFIED:20230309T144344Z
UID:6144-1680825600-1680911999@grandforks.org
SUMMARY:Good Friday: EDC Office Closed
DESCRIPTION:The Grand Forks Region Economic Development Corporation will be closed on specific holidays throughout the year.
URL:https://grandforks.org/event/good-friday-edc-office-closed/
LOCATION:Grand Forks Region Economic Development Corporation Office\, 120 N 4th St\, Grand Forks\, ND\, 58203\, United States
CATEGORIES:Holidays & Office Changes
END:VEVENT
END:VCALENDAR