BEGIN:VCALENDAR
VERSION:2.0
PRODID:-//Grand Forks EDC | Grand Forks, ND - ECPv6.15.20//NONSGML v1.0//EN
CALSCALE:GREGORIAN
METHOD:PUBLISH
X-ORIGINAL-URL:https://grandforks.org
X-WR-CALDESC:Events for Grand Forks EDC | Grand Forks, ND
REFRESH-INTERVAL;VALUE=DURATION:PT1H
X-Robots-Tag:noindex
X-PUBLISHED-TTL:PT1H
BEGIN:VTIMEZONE
TZID:America/Chicago
BEGIN:DAYLIGHT
TZOFFSETFROM:-0600
TZOFFSETTO:-0500
TZNAME:CDT
DTSTART:20250309T080000
END:DAYLIGHT
BEGIN:STANDARD
TZOFFSETFROM:-0500
TZOFFSETTO:-0600
TZNAME:CST
DTSTART:20251102T070000
END:STANDARD
BEGIN:DAYLIGHT
TZOFFSETFROM:-0600
TZOFFSETTO:-0500
TZNAME:CDT
DTSTART:20260308T080000
END:DAYLIGHT
BEGIN:STANDARD
TZOFFSETFROM:-0500
TZOFFSETTO:-0600
TZNAME:CST
DTSTART:20261101T070000
END:STANDARD
BEGIN:DAYLIGHT
TZOFFSETFROM:-0600
TZOFFSETTO:-0500
TZNAME:CDT
DTSTART:20270314T080000
END:DAYLIGHT
BEGIN:STANDARD
TZOFFSETFROM:-0500
TZOFFSETTO:-0600
TZNAME:CST
DTSTART:20271107T070000
END:STANDARD
END:VTIMEZONE
BEGIN:VEVENT
DTSTART;VALUE=DATE:20260101
DTEND;VALUE=DATE:20260302
DTSTAMP:20260423T090010
CREATED:20251208T170853Z
LAST-MODIFIED:20251208T170853Z
UID:9548-1767225600-1772409599@grandforks.org
SUMMARY:Intern GF Applications for Summer '26 Open
DESCRIPTION:InternGF offers up to $3\,500 to offset an intern’s salary. Employers can apply for up to two internships per year. Eligible applicants must be an early-to-mid-stage startup or a member organization of the EDC that can offer an internship not routinely found in the greater Grand Forks region. \nSummer Internships | May 1 – August 31 \n\nApplications Open: January 1 – March 1\nPriority Deadline: February 1
URL:https://grandforks.org/event/intern-gf-applications-for-summer-26-open/
LOCATION:Grand Forks Region Economic Development Corporation Office\, 120 N 4th St\, Grand Forks\, ND\, 58203\, United States
CATEGORIES:Funding Programs
ATTACH;FMTTYPE=image/jpeg:https://grandforks.org/wp-content/uploads/2023/05/interngf-students-smiling-school-brick-wall.jpg
END:VEVENT
BEGIN:VEVENT
DTSTART;TZID=America/Chicago:20260113T083000
DTEND;TZID=America/Chicago:20260113T100000
DTSTAMP:20260423T090010
CREATED:20251202T222255Z
LAST-MODIFIED:20251202T222331Z
UID:9482-1768293000-1768298400@grandforks.org
SUMMARY:2026 InternGF Launch Party
DESCRIPTION:Join the UND Center for Innovation and Grand Forks Region EDC for the 2026 Launch of InternGF! Enjoy breakfast\, learn about InternGF internship funding opportunities\, hear from past participants\, and celebrate successes! \nInternGF is a unique partnership between the UND Center for Innovation and the Grand Forks Region Economic Development Corporation. It is designed to introduce UND students to high-wage\, in-demand careers and employers in the Grand Forks region. The goal of the program is to aid in local recruitment and retention efforts by showcasing regional companies\, career opportunities\, and community assets. \n  \nEvent Outline \n8:30 AM – Breakfast \n8:45 AM – Presentation & Student Testimonials \n9:05 AM – Panel of InternGF Employer Participants \n9:35 AM – Ending Session: How to Get Started with Internships \n9:50-10:00 AM – Social \nRSVP for the Launch Party \n  \nLearn More About InternGF
URL:https://grandforks.org/event/2026-interngf-launch-party/
LOCATION:Center For Innovation\, Idea Lab\, 4200 James Ray Drive\, Grand Forks\, ND\, 58202\, United States
CATEGORIES:Funding Programs
ATTACH;FMTTYPE=image/webp:https://grandforks.org/wp-content/uploads/edc_mkt_grap_cp_25_interngf-launch-breakfast_calendar_rgb_1920x1080-1.webp
ORGANIZER;CN="Becca Cruger":MAILTO:beccac@grandforksorg
END:VEVENT
END:VCALENDAR