BEGIN:VCALENDAR
VERSION:2.0
PRODID:-//Grand Forks EDC | Grand Forks, ND - ECPv6.15.20//NONSGML v1.0//EN
CALSCALE:GREGORIAN
METHOD:PUBLISH
X-WR-CALNAME:Grand Forks EDC | Grand Forks, ND
X-ORIGINAL-URL:https://grandforks.org
X-WR-CALDESC:Events for Grand Forks EDC | Grand Forks, ND
REFRESH-INTERVAL;VALUE=DURATION:PT1H
X-Robots-Tag:noindex
X-PUBLISHED-TTL:PT1H
BEGIN:VTIMEZONE
TZID:America/Chicago
BEGIN:DAYLIGHT
TZOFFSETFROM:-0600
TZOFFSETTO:-0500
TZNAME:CDT
DTSTART:20240310T080000
END:DAYLIGHT
BEGIN:STANDARD
TZOFFSETFROM:-0500
TZOFFSETTO:-0600
TZNAME:CST
DTSTART:20241103T070000
END:STANDARD
BEGIN:DAYLIGHT
TZOFFSETFROM:-0600
TZOFFSETTO:-0500
TZNAME:CDT
DTSTART:20250309T080000
END:DAYLIGHT
BEGIN:STANDARD
TZOFFSETFROM:-0500
TZOFFSETTO:-0600
TZNAME:CST
DTSTART:20251102T070000
END:STANDARD
BEGIN:DAYLIGHT
TZOFFSETFROM:-0600
TZOFFSETTO:-0500
TZNAME:CDT
DTSTART:20260308T080000
END:DAYLIGHT
BEGIN:STANDARD
TZOFFSETFROM:-0500
TZOFFSETTO:-0600
TZNAME:CST
DTSTART:20261101T070000
END:STANDARD
END:VTIMEZONE
BEGIN:VEVENT
DTSTART;VALUE=DATE:20250601
DTEND;VALUE=DATE:20250802
DTSTAMP:20260423T173029
CREATED:20241219T164926Z
LAST-MODIFIED:20241219T164926Z
UID:8448-1748736000-1754092799@grandforks.org
SUMMARY:Intern GF Applications for Fall '25 Open
DESCRIPTION:InternGF offers up to $3\,500 to offset an intern’s salary. Employers can apply for up to two internships per year. Eligible applicants must be an early-to-mid-stage startup or a member organization of the EDC that can offer an internship not routinely found in the greater Grand Forks region. \nFall Internships | August 1 – December 31 \n\nApplications Open: June 1 – August 1\nPriority Deadline: July 1
URL:https://grandforks.org/event/intern-gf-applications-for-fall-25-open/
LOCATION:Grand Forks Region Economic Development Corporation Office\, 120 N 4th St\, Grand Forks\, ND\, 58203\, United States
CATEGORIES:Funding Programs
ATTACH;FMTTYPE=image/jpeg:https://grandforks.org/wp-content/uploads/2023/05/interngf-students-smiling-school-brick-wall.jpg
END:VEVENT
BEGIN:VEVENT
DTSTART;VALUE=DATE:20250701
DTEND;VALUE=DATE:20251101
DTSTAMP:20260423T173029
CREATED:20241219T164957Z
LAST-MODIFIED:20241219T164957Z
UID:8444-1751328000-1761955199@grandforks.org
SUMMARY:Intern GF Applications for Spring '26 Open
DESCRIPTION:InternGF offers up to $3\,500 to offset an intern’s salary. Employers can apply for up to two internships per year. Eligible applicants must be an early-to-mid-stage startup or a member organization of the EDC that can offer an internship not routinely found in the greater Grand Forks region. \nSpring Internships | Jan 1 – May 1 \n\nApplications Open: July 1 – October 31\nPriority Deadline: September 1
URL:https://grandforks.org/event/intern-gf-applications-for-spring-26-open/
LOCATION:Grand Forks Region Economic Development Corporation Office\, 120 N 4th St\, Grand Forks\, ND\, 58203\, United States
CATEGORIES:Funding Programs
ATTACH;FMTTYPE=image/jpeg:https://grandforks.org/wp-content/uploads/2023/05/interngf-students-smiling-school-brick-wall.jpg
END:VEVENT
END:VCALENDAR