BEGIN:VCALENDAR
VERSION:2.0
PRODID:-//Grand Forks EDC | Grand Forks, ND - ECPv6.15.20//NONSGML v1.0//EN
CALSCALE:GREGORIAN
METHOD:PUBLISH
X-WR-CALNAME:Grand Forks EDC | Grand Forks, ND
X-ORIGINAL-URL:https://grandforks.org
X-WR-CALDESC:Events for Grand Forks EDC | Grand Forks, ND
REFRESH-INTERVAL;VALUE=DURATION:PT1H
X-Robots-Tag:noindex
X-PUBLISHED-TTL:PT1H
BEGIN:VTIMEZONE
TZID:America/Chicago
BEGIN:DAYLIGHT
TZOFFSETFROM:-0600
TZOFFSETTO:-0500
TZNAME:CDT
DTSTART:20220313T080000
END:DAYLIGHT
BEGIN:STANDARD
TZOFFSETFROM:-0500
TZOFFSETTO:-0600
TZNAME:CST
DTSTART:20221106T070000
END:STANDARD
BEGIN:DAYLIGHT
TZOFFSETFROM:-0600
TZOFFSETTO:-0500
TZNAME:CDT
DTSTART:20230312T080000
END:DAYLIGHT
BEGIN:STANDARD
TZOFFSETFROM:-0500
TZOFFSETTO:-0600
TZNAME:CST
DTSTART:20231105T070000
END:STANDARD
BEGIN:DAYLIGHT
TZOFFSETFROM:-0600
TZOFFSETTO:-0500
TZNAME:CDT
DTSTART:20240310T080000
END:DAYLIGHT
BEGIN:STANDARD
TZOFFSETFROM:-0500
TZOFFSETTO:-0600
TZNAME:CST
DTSTART:20241103T070000
END:STANDARD
BEGIN:DAYLIGHT
TZOFFSETFROM:-0600
TZOFFSETTO:-0500
TZNAME:CDT
DTSTART:20250309T080000
END:DAYLIGHT
BEGIN:STANDARD
TZOFFSETFROM:-0500
TZOFFSETTO:-0600
TZNAME:CST
DTSTART:20251102T070000
END:STANDARD
BEGIN:DAYLIGHT
TZOFFSETFROM:-0600
TZOFFSETTO:-0500
TZNAME:CDT
DTSTART:20260308T080000
END:DAYLIGHT
BEGIN:STANDARD
TZOFFSETFROM:-0500
TZOFFSETTO:-0600
TZNAME:CST
DTSTART:20261101T070000
END:STANDARD
BEGIN:DAYLIGHT
TZOFFSETFROM:-0600
TZOFFSETTO:-0500
TZNAME:CDT
DTSTART:20270314T080000
END:DAYLIGHT
BEGIN:STANDARD
TZOFFSETFROM:-0500
TZOFFSETTO:-0600
TZNAME:CST
DTSTART:20271107T070000
END:STANDARD
END:VTIMEZONE
BEGIN:VEVENT
DTSTART;TZID=America/Chicago:20260212T073000
DTEND;TZID=America/Chicago:20260212T090000
DTSTAMP:20260423T061740
CREATED:20251208T170433Z
LAST-MODIFIED:20251208T170433Z
UID:9528-1770881400-1770886800@grandforks.org
SUMMARY:February 2026 Advisory Board Meeting
DESCRIPTION:The Grand Forks Region Economic Development Corporation’s Advisory Board meets three times a year on the second Thursday of the meeting month. \n2026 Meetings \n\nFebruary 12\nJuly 9\nOctober 8
URL:https://grandforks.org/event/february-2026-advisory-board-meeting/
LOCATION:The HIVE GF\, 375 2nd Ave N\, Grand Forks\, ND\, 58203\, United States
CATEGORIES:Advisory Board Meeting
ATTACH;FMTTYPE=image/jpeg:https://grandforks.org/wp-content/uploads/2023/02/edc-outside-sign-summer-calendar-event.jpg
END:VEVENT
BEGIN:VEVENT
DTSTART;TZID=America/Chicago:20251009T073000
DTEND;TZID=America/Chicago:20251009T090000
DTSTAMP:20260423T061740
CREATED:20241219T163949Z
LAST-MODIFIED:20241219T163949Z
UID:8434-1759995000-1760000400@grandforks.org
SUMMARY:October 2025 Advisory Board Meeting
DESCRIPTION:The Grand Forks Region Economic Development Corporation’s Advisory Board meets three times a year on the second Thursday of the meeting month. \n2025 Meetings \n\nFebruary 13\nJuly 10\nOctober 9
URL:https://grandforks.org/event/october-2025-advisory-board-meeting/
LOCATION:The HIVE GF\, 375 2nd Ave N\, Grand Forks\, ND\, 58203\, United States
CATEGORIES:Advisory Board Meeting
ATTACH;FMTTYPE=image/jpeg:https://grandforks.org/wp-content/uploads/2023/02/edc-outside-sign-summer-calendar-event.jpg
END:VEVENT
BEGIN:VEVENT
DTSTART;TZID=America/Chicago:20250710T073000
DTEND;TZID=America/Chicago:20250710T090000
DTSTAMP:20260423T061740
CREATED:20241219T163907Z
LAST-MODIFIED:20241219T163907Z
UID:8442-1752132600-1752138000@grandforks.org
SUMMARY:July 2025 Advisory Board Meeting
DESCRIPTION:The Grand Forks Region Economic Development Corporation’s Advisory Board meets three times a year on the second Thursday of the meeting month. \n2025 Meetings \n\nFebruary 13\nJuly 10\nOctober 9
URL:https://grandforks.org/event/july-2025-advisory-board-meeting/
LOCATION:The HIVE GF\, 375 2nd Ave N\, Grand Forks\, ND\, 58203\, United States
CATEGORIES:Advisory Board Meeting
ATTACH;FMTTYPE=image/jpeg:https://grandforks.org/wp-content/uploads/2023/02/edc-outside-sign-summer-calendar-event.jpg
END:VEVENT
BEGIN:VEVENT
DTSTART;TZID=America/Chicago:20250213T073000
DTEND;TZID=America/Chicago:20250213T090000
DTSTAMP:20260423T061740
CREATED:20241219T163804Z
LAST-MODIFIED:20241219T170949Z
UID:8458-1739431800-1739437200@grandforks.org
SUMMARY:February 2025 Advisory Board Meeting
DESCRIPTION:The Grand Forks Region Economic Development Corporation’s Advisory Board meets three times a year on the second Thursday of the meeting month. \n2025 Meetings \n\nFebruary 13\nJuly 10\nOctober 9
URL:https://grandforks.org/event/february-2025-advisory-board-meeting/
LOCATION:The HIVE GF\, 375 2nd Ave N\, Grand Forks\, ND\, 58203\, United States
CATEGORIES:Advisory Board Meeting
ATTACH;FMTTYPE=image/jpeg:https://grandforks.org/wp-content/uploads/2023/02/grand-forks-herald-building-4th-street-entrance.jpg
END:VEVENT
BEGIN:VEVENT
DTSTART;TZID=America/Chicago:20241010T073000
DTEND;TZID=America/Chicago:20241010T090000
DTSTAMP:20260423T061740
CREATED:20231211T174446Z
LAST-MODIFIED:20231211T174446Z
UID:7158-1728545400-1728550800@grandforks.org
SUMMARY:October 2024 Advisory Board Meeting
DESCRIPTION:The Grand Forks Region Economic Development Corporation’s Advisory Board meets three times a year on the second Thursday of the meeting month. \n2024 Meetings \n\nFebruary 8\nJuly 11\nOctober 10
URL:https://grandforks.org/event/october-2024-advisory-board-meeting/
LOCATION:The HIVE GF\, 375 2nd Ave N\, Grand Forks\, ND\, 58203\, United States
CATEGORIES:Advisory Board Meeting
ATTACH;FMTTYPE=image/jpeg:https://grandforks.org/wp-content/uploads/2023/02/edc-outside-sign-summer-calendar-event.jpg
END:VEVENT
BEGIN:VEVENT
DTSTART;TZID=America/Chicago:20240711T073000
DTEND;TZID=America/Chicago:20240711T090000
DTSTAMP:20260423T061740
CREATED:20231211T174303Z
LAST-MODIFIED:20231211T174303Z
UID:7156-1720683000-1720688400@grandforks.org
SUMMARY:July 2024 Advisory Board Meeting
DESCRIPTION:The Grand Forks Region Economic Development Corporation’s Advisory Board meets three times a year on the second Thursday of the meeting month. \n2024 Meetings \n\nFebruary 8\nJuly 11\nOctober 10
URL:https://grandforks.org/event/july-2024-advisory-board-meeting/
LOCATION:The HIVE GF\, 375 2nd Ave N\, Grand Forks\, ND\, 58203\, United States
CATEGORIES:Advisory Board Meeting
ATTACH;FMTTYPE=image/jpeg:https://grandforks.org/wp-content/uploads/2023/02/edc-outside-sign-summer-calendar-event.jpg
END:VEVENT
BEGIN:VEVENT
DTSTART;TZID=America/Chicago:20240208T073000
DTEND;TZID=America/Chicago:20240208T090000
DTSTAMP:20260423T061740
CREATED:20231211T174058Z
LAST-MODIFIED:20231211T174058Z
UID:7154-1707377400-1707382800@grandforks.org
SUMMARY:February 2024 Advisory Board Meeting
DESCRIPTION:The Grand Forks Region Economic Development Corporation’s Advisory Board meets three times a year on the second Thursday of the meeting month. \n2024 Meetings \n\nFebruary 8\nJuly 11\nOctober 10
URL:https://grandforks.org/event/february-24-advisory-board-meeting/
LOCATION:The HIVE GF\, 375 2nd Ave N\, Grand Forks\, ND\, 58203\, United States
CATEGORIES:Advisory Board Meeting
ATTACH;FMTTYPE=image/jpeg:https://grandforks.org/wp-content/uploads/2023/02/edc-outside-sign-summer-calendar-event.jpg
END:VEVENT
BEGIN:VEVENT
DTSTART;TZID=America/Chicago:20231012T073000
DTEND;TZID=America/Chicago:20231012T090000
DTSTAMP:20260423T061740
CREATED:20230228T165707Z
LAST-MODIFIED:20230301T230035Z
UID:6142-1697095800-1697101200@grandforks.org
SUMMARY:October Advisory Board Meeting
DESCRIPTION:The Grand Forks Region Economic Development Corporation’s Advisory Board meets three times a year on the second Thursday of the meeting month.
URL:https://grandforks.org/event/october-advisory-board-meeting/
LOCATION:The HIVE GF\, 375 2nd Ave N\, Grand Forks\, ND\, 58203\, United States
CATEGORIES:Advisory Board Meeting
ATTACH;FMTTYPE=image/jpeg:https://grandforks.org/wp-content/uploads/2023/02/edc-outside-sign-summer-calendar-event.jpg
END:VEVENT
BEGIN:VEVENT
DTSTART;TZID=America/Chicago:20230713T073000
DTEND;TZID=America/Chicago:20230713T090000
DTSTAMP:20260423T061740
CREATED:20230228T165007Z
LAST-MODIFIED:20230301T230047Z
UID:6129-1689233400-1689238800@grandforks.org
SUMMARY:July Advisory Board Meeting
DESCRIPTION:The Grand Forks Region Economic Development Corporation’s Advisory Board meets three times a year on the second Thursday of the meeting month.
URL:https://grandforks.org/event/july-advisory-board-meeting/
LOCATION:The HIVE GF\, 375 2nd Ave N\, Grand Forks\, ND\, 58203\, United States
CATEGORIES:Advisory Board Meeting
ATTACH;FMTTYPE=image/jpeg:https://grandforks.org/wp-content/uploads/2023/02/edc-outside-sign-summer-calendar-event.jpg
END:VEVENT
END:VCALENDAR